BEGIN:VCALENDAR
VERSION:2.0
PRODID:-//Rainbowneighbors.org - ECPv6.15.20//NONSGML v1.0//EN
CALSCALE:GREGORIAN
METHOD:PUBLISH
X-WR-CALNAME:Rainbowneighbors.org
X-ORIGINAL-URL:https://rainbowneighbors.org
X-WR-CALDESC:Events for Rainbowneighbors.org
REFRESH-INTERVAL;VALUE=DURATION:PT1H
X-Robots-Tag:noindex
X-PUBLISHED-TTL:PT1H
BEGIN:VTIMEZONE
TZID:America/Denver
BEGIN:DAYLIGHT
TZOFFSETFROM:-0700
TZOFFSETTO:-0600
TZNAME:MDT
DTSTART:20230312T090000
END:DAYLIGHT
BEGIN:STANDARD
TZOFFSETFROM:-0600
TZOFFSETTO:-0700
TZNAME:MST
DTSTART:20231105T080000
END:STANDARD
BEGIN:DAYLIGHT
TZOFFSETFROM:-0700
TZOFFSETTO:-0600
TZNAME:MDT
DTSTART:20240310T090000
END:DAYLIGHT
BEGIN:STANDARD
TZOFFSETFROM:-0600
TZOFFSETTO:-0700
TZNAME:MST
DTSTART:20241103T080000
END:STANDARD
BEGIN:DAYLIGHT
TZOFFSETFROM:-0700
TZOFFSETTO:-0600
TZNAME:MDT
DTSTART:20250309T090000
END:DAYLIGHT
BEGIN:STANDARD
TZOFFSETFROM:-0600
TZOFFSETTO:-0700
TZNAME:MST
DTSTART:20251102T080000
END:STANDARD
BEGIN:DAYLIGHT
TZOFFSETFROM:-0700
TZOFFSETTO:-0600
TZNAME:MDT
DTSTART:20260308T090000
END:DAYLIGHT
BEGIN:STANDARD
TZOFFSETFROM:-0600
TZOFFSETTO:-0700
TZNAME:MST
DTSTART:20261101T080000
END:STANDARD
END:VTIMEZONE
BEGIN:VEVENT
DTSTART;TZID=America/Denver:20250615T120000
DTEND;TZID=America/Denver:20250615T160000
DTSTAMP:20260420T070917
CREATED:20250603T032540Z
LAST-MODIFIED:20250613T023422Z
UID:10000314-1749988800-1750003200@rainbowneighbors.org
SUMMARY:Pride Picnic Potluck at Lake Elizabeth
DESCRIPTION:Please join us for a picnic at Lake Elizabeth to celebrate Pride month. 12 noon to 4:00 pm. Please bring something to share. Consider brining a blanket or fold-up chair\, but some chairs will be available. Some beverages and water will be provided. Meet the community\, make friends\, and just have a good time. We will be setting up near a picnic table close to the Age Well Center\, near the restroom by the parking lot east of the Age Well Center. \nAge Well Center is at: \n40086 Paseo Padre Parkway\nFremont\, CA 94538 \n(510) 589-2954‬
URL:https://rainbowneighbors.org/event/pride-picnic-potluck-at-lake-elizabeth/
LOCATION:Lake Elizabeth\, Fremont\, CA\, 40086 Paseo Padre Parkway\, Fremont\, CA\, CA\, 94538\, United States
END:VEVENT
BEGIN:VEVENT
DTSTART;TZID=America/Denver:20250315T110000
DTEND;TZID=America/Denver:20250315T130000
DTSTAMP:20260420T070917
CREATED:20250303T222529Z
LAST-MODIFIED:20250303T222529Z
UID:10000131-1742036400-1742043600@rainbowneighbors.org
SUMMARY:Picnic and Walk at Lake Elizabeth
DESCRIPTION:Come and be part of the community\, make new friends or meet old ones. Bring a picnic lunch and we’ll have some waters and sodas. Hang out or take a walk around the lake. RSVP\, please. 11:00 am. Meet in front of the Fremont\, Lake Elizabeth Age Well Center (40086 Paseo Padre Pkwy\, Fremont\, CA 94538) \nRain Cancels \n 
URL:https://rainbowneighbors.org/event/picnic-and-walk-at-lake-elizabeth/
LOCATION:Lake Elizabeth\, Fremont\, CA\, 40086 Paseo Padre Parkway\, Fremont\, CA\, CA\, 94538\, United States
END:VEVENT
BEGIN:VEVENT
DTSTART;TZID=America/Denver:20240914T110000
DTEND;TZID=America/Denver:20240914T140000
DTSTAMP:20260420T070917
CREATED:20240908T215337Z
LAST-MODIFIED:20240914T014107Z
UID:10000006-1726311600-1726322400@rainbowneighbors.org
SUMMARY:Potluck Picnic at Lake Elizabeth\, Fremont\, CA
DESCRIPTION:Join Rainbow Neighbors for a Potluck Picnic at Lake Elizabeth\, Fremont\, CA\, on Saturday\, September 14th\, from 11:00 am – 2:00 pm. Enjoy a beautiful mid-day get-together at the park. Enjoy old friends and meet new ones. Please bring something to share. If you have a folding chair\, you might enjoy bringing it. \nThe closest parking lot to the picnic location is at 40086 Paseo Padre Parkway\, which is the address of Fremont’s Age Well Center at Lake Elizabeth. The picnic area is east of the Age Well Center just past the end of the parking lot. There is plenty of parking in several parking lots at the lake. \nLook for the rainbow umbrella at the picnic tables. \n \nRed dot is location of the picnic.
URL:https://rainbowneighbors.org/event/potluck-picnic-at-lake-elizabeth-fremont-ca/
LOCATION:Lake Elizabeth\, Fremont\, CA\, 40086 Paseo Padre Parkway\, Fremont\, CA\, CA\, 94538\, United States
END:VEVENT
END:VCALENDAR