BEGIN:VCALENDAR
VERSION:2.0
PRODID:-//Rainbowneighbors.org - ECPv6.15.20//NONSGML v1.0//EN
CALSCALE:GREGORIAN
METHOD:PUBLISH
X-WR-CALNAME:Rainbowneighbors.org
X-ORIGINAL-URL:https://rainbowneighbors.org
X-WR-CALDESC:Events for Rainbowneighbors.org
REFRESH-INTERVAL;VALUE=DURATION:PT1H
X-Robots-Tag:noindex
X-PUBLISHED-TTL:PT1H
BEGIN:VTIMEZONE
TZID:America/Denver
BEGIN:DAYLIGHT
TZOFFSETFROM:-0700
TZOFFSETTO:-0600
TZNAME:MDT
DTSTART:20270314T090000
END:DAYLIGHT
BEGIN:STANDARD
TZOFFSETFROM:-0600
TZOFFSETTO:-0700
TZNAME:MST
DTSTART:20271107T080000
END:STANDARD
BEGIN:DAYLIGHT
TZOFFSETFROM:-0700
TZOFFSETTO:-0600
TZNAME:MDT
DTSTART:20280312T090000
END:DAYLIGHT
BEGIN:STANDARD
TZOFFSETFROM:-0600
TZOFFSETTO:-0700
TZNAME:MST
DTSTART:20281105T080000
END:STANDARD
BEGIN:DAYLIGHT
TZOFFSETFROM:-0700
TZOFFSETTO:-0600
TZNAME:MDT
DTSTART:20290311T090000
END:DAYLIGHT
BEGIN:STANDARD
TZOFFSETFROM:-0600
TZOFFSETTO:-0700
TZNAME:MST
DTSTART:20291104T080000
END:STANDARD
BEGIN:DAYLIGHT
TZOFFSETFROM:-0700
TZOFFSETTO:-0600
TZNAME:MDT
DTSTART:20300310T090000
END:DAYLIGHT
BEGIN:STANDARD
TZOFFSETFROM:-0600
TZOFFSETTO:-0700
TZNAME:MST
DTSTART:20301103T080000
END:STANDARD
BEGIN:DAYLIGHT
TZOFFSETFROM:-0700
TZOFFSETTO:-0600
TZNAME:MDT
DTSTART:20310309T090000
END:DAYLIGHT
BEGIN:STANDARD
TZOFFSETFROM:-0600
TZOFFSETTO:-0700
TZNAME:MST
DTSTART:20311102T080000
END:STANDARD
END:VTIMEZONE
BEGIN:VEVENT
DTSTART;TZID=America/Denver:20280422T100000
DTEND;TZID=America/Denver:20280422T120000
DTSTAMP:20260420T032146
CREATED:20250203T021032Z
LAST-MODIFIED:20250203T021032Z
UID:10000109-1840010400-1840017600@rainbowneighbors.org
SUMMARY:Vintage Coffee Group
DESCRIPTION:Join us in friendship and community at Crema Coffee. Grab a drink and enjoy good people at a pleasant venue. \n 
URL:https://rainbowneighbors.org/event/vintage-coffee-group/2028-04-22/
LOCATION:Crema Coffee Roasting Co\, 238 Race Street\, San Jose\, CA\, 95126\, United States
END:VEVENT
BEGIN:VEVENT
DTSTART;TZID=America/Denver:20280527T100000
DTEND;TZID=America/Denver:20280527T120000
DTSTAMP:20260420T032146
CREATED:20250203T021032Z
LAST-MODIFIED:20250203T021032Z
UID:10000110-1843034400-1843041600@rainbowneighbors.org
SUMMARY:Vintage Coffee Group
DESCRIPTION:Join us in friendship and community at Crema Coffee. Grab a drink and enjoy good people at a pleasant venue. \n 
URL:https://rainbowneighbors.org/event/vintage-coffee-group/2028-05-27/
LOCATION:Crema Coffee Roasting Co\, 238 Race Street\, San Jose\, CA\, 95126\, United States
END:VEVENT
BEGIN:VEVENT
DTSTART;TZID=America/Denver:20280624T100000
DTEND;TZID=America/Denver:20280624T120000
DTSTAMP:20260420T032146
CREATED:20250203T021032Z
LAST-MODIFIED:20250203T021032Z
UID:10000111-1845453600-1845460800@rainbowneighbors.org
SUMMARY:Vintage Coffee Group
DESCRIPTION:Join us in friendship and community at Crema Coffee. Grab a drink and enjoy good people at a pleasant venue. \n 
URL:https://rainbowneighbors.org/event/vintage-coffee-group/2028-06-24/
LOCATION:Crema Coffee Roasting Co\, 238 Race Street\, San Jose\, CA\, 95126\, United States
END:VEVENT
BEGIN:VEVENT
DTSTART;TZID=America/Denver:20280722T100000
DTEND;TZID=America/Denver:20280722T120000
DTSTAMP:20260420T032146
CREATED:20250203T021032Z
LAST-MODIFIED:20250203T021032Z
UID:10000112-1847872800-1847880000@rainbowneighbors.org
SUMMARY:Vintage Coffee Group
DESCRIPTION:Join us in friendship and community at Crema Coffee. Grab a drink and enjoy good people at a pleasant venue. \n 
URL:https://rainbowneighbors.org/event/vintage-coffee-group/2028-07-22/
LOCATION:Crema Coffee Roasting Co\, 238 Race Street\, San Jose\, CA\, 95126\, United States
END:VEVENT
BEGIN:VEVENT
DTSTART;TZID=America/Denver:20280826T100000
DTEND;TZID=America/Denver:20280826T120000
DTSTAMP:20260420T032146
CREATED:20250203T021032Z
LAST-MODIFIED:20250203T021032Z
UID:10000113-1850896800-1850904000@rainbowneighbors.org
SUMMARY:Vintage Coffee Group
DESCRIPTION:Join us in friendship and community at Crema Coffee. Grab a drink and enjoy good people at a pleasant venue. \n 
URL:https://rainbowneighbors.org/event/vintage-coffee-group/2028-08-26/
LOCATION:Crema Coffee Roasting Co\, 238 Race Street\, San Jose\, CA\, 95126\, United States
END:VEVENT
BEGIN:VEVENT
DTSTART;TZID=America/Denver:20280923T100000
DTEND;TZID=America/Denver:20280923T120000
DTSTAMP:20260420T032146
CREATED:20250203T021032Z
LAST-MODIFIED:20250203T021032Z
UID:10000114-1853316000-1853323200@rainbowneighbors.org
SUMMARY:Vintage Coffee Group
DESCRIPTION:Join us in friendship and community at Crema Coffee. Grab a drink and enjoy good people at a pleasant venue. \n 
URL:https://rainbowneighbors.org/event/vintage-coffee-group/2028-09-23/
LOCATION:Crema Coffee Roasting Co\, 238 Race Street\, San Jose\, CA\, 95126\, United States
END:VEVENT
BEGIN:VEVENT
DTSTART;TZID=America/Denver:20281028T100000
DTEND;TZID=America/Denver:20281028T120000
DTSTAMP:20260420T032146
CREATED:20250203T021032Z
LAST-MODIFIED:20250203T021032Z
UID:10000115-1856340000-1856347200@rainbowneighbors.org
SUMMARY:Vintage Coffee Group
DESCRIPTION:Join us in friendship and community at Crema Coffee. Grab a drink and enjoy good people at a pleasant venue. \n 
URL:https://rainbowneighbors.org/event/vintage-coffee-group/2028-10-28/
LOCATION:Crema Coffee Roasting Co\, 238 Race Street\, San Jose\, CA\, 95126\, United States
END:VEVENT
BEGIN:VEVENT
DTSTART;TZID=America/Denver:20281125T100000
DTEND;TZID=America/Denver:20281125T120000
DTSTAMP:20260420T032146
CREATED:20250203T021032Z
LAST-MODIFIED:20250203T021032Z
UID:10000116-1858759200-1858766400@rainbowneighbors.org
SUMMARY:Vintage Coffee Group
DESCRIPTION:Join us in friendship and community at Crema Coffee. Grab a drink and enjoy good people at a pleasant venue. \n 
URL:https://rainbowneighbors.org/event/vintage-coffee-group/2028-11-25/
LOCATION:Crema Coffee Roasting Co\, 238 Race Street\, San Jose\, CA\, 95126\, United States
END:VEVENT
BEGIN:VEVENT
DTSTART;TZID=America/Denver:20281223T100000
DTEND;TZID=America/Denver:20281223T120000
DTSTAMP:20260420T032146
CREATED:20250203T021032Z
LAST-MODIFIED:20250203T021032Z
UID:10000117-1861178400-1861185600@rainbowneighbors.org
SUMMARY:Vintage Coffee Group
DESCRIPTION:Join us in friendship and community at Crema Coffee. Grab a drink and enjoy good people at a pleasant venue. \n 
URL:https://rainbowneighbors.org/event/vintage-coffee-group/2028-12-23/
LOCATION:Crema Coffee Roasting Co\, 238 Race Street\, San Jose\, CA\, 95126\, United States
END:VEVENT
BEGIN:VEVENT
DTSTART;TZID=America/Denver:20290127T100000
DTEND;TZID=America/Denver:20290127T120000
DTSTAMP:20260420T032146
CREATED:20250203T021032Z
LAST-MODIFIED:20250203T021032Z
UID:10000118-1864202400-1864209600@rainbowneighbors.org
SUMMARY:Vintage Coffee Group
DESCRIPTION:Join us in friendship and community at Crema Coffee. Grab a drink and enjoy good people at a pleasant venue. \n 
URL:https://rainbowneighbors.org/event/vintage-coffee-group/2029-01-27/
LOCATION:Crema Coffee Roasting Co\, 238 Race Street\, San Jose\, CA\, 95126\, United States
END:VEVENT
BEGIN:VEVENT
DTSTART;TZID=America/Denver:20290224T100000
DTEND;TZID=America/Denver:20290224T120000
DTSTAMP:20260420T032146
CREATED:20250203T021032Z
LAST-MODIFIED:20250203T021032Z
UID:10000119-1866621600-1866628800@rainbowneighbors.org
SUMMARY:Vintage Coffee Group
DESCRIPTION:Join us in friendship and community at Crema Coffee. Grab a drink and enjoy good people at a pleasant venue. \n 
URL:https://rainbowneighbors.org/event/vintage-coffee-group/2029-02-24/
LOCATION:Crema Coffee Roasting Co\, 238 Race Street\, San Jose\, CA\, 95126\, United States
END:VEVENT
BEGIN:VEVENT
DTSTART;TZID=America/Denver:20290324T100000
DTEND;TZID=America/Denver:20290324T120000
DTSTAMP:20260420T032146
CREATED:20250203T021032Z
LAST-MODIFIED:20250203T021032Z
UID:10000120-1869040800-1869048000@rainbowneighbors.org
SUMMARY:Vintage Coffee Group
DESCRIPTION:Join us in friendship and community at Crema Coffee. Grab a drink and enjoy good people at a pleasant venue. \n 
URL:https://rainbowneighbors.org/event/vintage-coffee-group/2029-03-24/
LOCATION:Crema Coffee Roasting Co\, 238 Race Street\, San Jose\, CA\, 95126\, United States
END:VEVENT
BEGIN:VEVENT
DTSTART;TZID=America/Denver:20290428T100000
DTEND;TZID=America/Denver:20290428T120000
DTSTAMP:20260420T032146
CREATED:20250203T021032Z
LAST-MODIFIED:20250203T021032Z
UID:10000121-1872064800-1872072000@rainbowneighbors.org
SUMMARY:Vintage Coffee Group
DESCRIPTION:Join us in friendship and community at Crema Coffee. Grab a drink and enjoy good people at a pleasant venue. \n 
URL:https://rainbowneighbors.org/event/vintage-coffee-group/2029-04-28/
LOCATION:Crema Coffee Roasting Co\, 238 Race Street\, San Jose\, CA\, 95126\, United States
END:VEVENT
BEGIN:VEVENT
DTSTART;TZID=America/Denver:20290526T100000
DTEND;TZID=America/Denver:20290526T120000
DTSTAMP:20260420T032146
CREATED:20250203T021032Z
LAST-MODIFIED:20250203T021032Z
UID:10000122-1874484000-1874491200@rainbowneighbors.org
SUMMARY:Vintage Coffee Group
DESCRIPTION:Join us in friendship and community at Crema Coffee. Grab a drink and enjoy good people at a pleasant venue. \n 
URL:https://rainbowneighbors.org/event/vintage-coffee-group/2029-05-26/
LOCATION:Crema Coffee Roasting Co\, 238 Race Street\, San Jose\, CA\, 95126\, United States
END:VEVENT
BEGIN:VEVENT
DTSTART;TZID=America/Denver:20290623T100000
DTEND;TZID=America/Denver:20290623T120000
DTSTAMP:20260420T032146
CREATED:20250203T021032Z
LAST-MODIFIED:20250203T021032Z
UID:10000123-1876903200-1876910400@rainbowneighbors.org
SUMMARY:Vintage Coffee Group
DESCRIPTION:Join us in friendship and community at Crema Coffee. Grab a drink and enjoy good people at a pleasant venue. \n 
URL:https://rainbowneighbors.org/event/vintage-coffee-group/2029-06-23/
LOCATION:Crema Coffee Roasting Co\, 238 Race Street\, San Jose\, CA\, 95126\, United States
END:VEVENT
BEGIN:VEVENT
DTSTART;TZID=America/Denver:20290728T100000
DTEND;TZID=America/Denver:20290728T120000
DTSTAMP:20260420T032146
CREATED:20250203T021032Z
LAST-MODIFIED:20250203T021032Z
UID:10000124-1879927200-1879934400@rainbowneighbors.org
SUMMARY:Vintage Coffee Group
DESCRIPTION:Join us in friendship and community at Crema Coffee. Grab a drink and enjoy good people at a pleasant venue. \n 
URL:https://rainbowneighbors.org/event/vintage-coffee-group/2029-07-28/
LOCATION:Crema Coffee Roasting Co\, 238 Race Street\, San Jose\, CA\, 95126\, United States
END:VEVENT
BEGIN:VEVENT
DTSTART;TZID=America/Denver:20290825T100000
DTEND;TZID=America/Denver:20290825T120000
DTSTAMP:20260420T032146
CREATED:20250203T021032Z
LAST-MODIFIED:20250203T021032Z
UID:10000125-1882346400-1882353600@rainbowneighbors.org
SUMMARY:Vintage Coffee Group
DESCRIPTION:Join us in friendship and community at Crema Coffee. Grab a drink and enjoy good people at a pleasant venue. \n 
URL:https://rainbowneighbors.org/event/vintage-coffee-group/2029-08-25/
LOCATION:Crema Coffee Roasting Co\, 238 Race Street\, San Jose\, CA\, 95126\, United States
END:VEVENT
BEGIN:VEVENT
DTSTART;TZID=America/Denver:20290922T100000
DTEND;TZID=America/Denver:20290922T120000
DTSTAMP:20260420T032146
CREATED:20250203T021032Z
LAST-MODIFIED:20250203T021032Z
UID:10000126-1884765600-1884772800@rainbowneighbors.org
SUMMARY:Vintage Coffee Group
DESCRIPTION:Join us in friendship and community at Crema Coffee. Grab a drink and enjoy good people at a pleasant venue. \n 
URL:https://rainbowneighbors.org/event/vintage-coffee-group/2029-09-22/
LOCATION:Crema Coffee Roasting Co\, 238 Race Street\, San Jose\, CA\, 95126\, United States
END:VEVENT
BEGIN:VEVENT
DTSTART;TZID=America/Denver:20291027T100000
DTEND;TZID=America/Denver:20291027T120000
DTSTAMP:20260420T032146
CREATED:20250203T021032Z
LAST-MODIFIED:20250203T021032Z
UID:10000127-1887789600-1887796800@rainbowneighbors.org
SUMMARY:Vintage Coffee Group
DESCRIPTION:Join us in friendship and community at Crema Coffee. Grab a drink and enjoy good people at a pleasant venue. \n 
URL:https://rainbowneighbors.org/event/vintage-coffee-group/2029-10-27/
LOCATION:Crema Coffee Roasting Co\, 238 Race Street\, San Jose\, CA\, 95126\, United States
END:VEVENT
BEGIN:VEVENT
DTSTART;TZID=America/Denver:20291124T100000
DTEND;TZID=America/Denver:20291124T120000
DTSTAMP:20260420T032146
CREATED:20250203T021032Z
LAST-MODIFIED:20250203T021032Z
UID:10000128-1890208800-1890216000@rainbowneighbors.org
SUMMARY:Vintage Coffee Group
DESCRIPTION:Join us in friendship and community at Crema Coffee. Grab a drink and enjoy good people at a pleasant venue. \n 
URL:https://rainbowneighbors.org/event/vintage-coffee-group/2029-11-24/
LOCATION:Crema Coffee Roasting Co\, 238 Race Street\, San Jose\, CA\, 95126\, United States
END:VEVENT
BEGIN:VEVENT
DTSTART;TZID=America/Denver:20291222T100000
DTEND;TZID=America/Denver:20291222T120000
DTSTAMP:20260420T032146
CREATED:20250203T021032Z
LAST-MODIFIED:20250203T021032Z
UID:10000129-1892628000-1892635200@rainbowneighbors.org
SUMMARY:Vintage Coffee Group
DESCRIPTION:Join us in friendship and community at Crema Coffee. Grab a drink and enjoy good people at a pleasant venue. \n 
URL:https://rainbowneighbors.org/event/vintage-coffee-group/2029-12-22/
LOCATION:Crema Coffee Roasting Co\, 238 Race Street\, San Jose\, CA\, 95126\, United States
END:VEVENT
BEGIN:VEVENT
DTSTART;TZID=America/Denver:20300126T100000
DTEND;TZID=America/Denver:20300126T120000
DTSTAMP:20260420T032146
CREATED:20250203T021032Z
LAST-MODIFIED:20250203T021032Z
UID:10000130-1895652000-1895659200@rainbowneighbors.org
SUMMARY:Vintage Coffee Group
DESCRIPTION:Join us in friendship and community at Crema Coffee. Grab a drink and enjoy good people at a pleasant venue. \n 
URL:https://rainbowneighbors.org/event/vintage-coffee-group/2030-01-26/
LOCATION:Crema Coffee Roasting Co\, 238 Race Street\, San Jose\, CA\, 95126\, United States
END:VEVENT
END:VCALENDAR