BEGIN:VCALENDAR
VERSION:2.0
PRODID:-//Rainbowneighbors.org - ECPv6.15.20//NONSGML v1.0//EN
CALSCALE:GREGORIAN
METHOD:PUBLISH
X-WR-CALNAME:Rainbowneighbors.org
X-ORIGINAL-URL:https://rainbowneighbors.org
X-WR-CALDESC:Events for Rainbowneighbors.org
REFRESH-INTERVAL;VALUE=DURATION:PT1H
X-Robots-Tag:noindex
X-PUBLISHED-TTL:PT1H
BEGIN:VTIMEZONE
TZID:America/Denver
BEGIN:DAYLIGHT
TZOFFSETFROM:-0700
TZOFFSETTO:-0600
TZNAME:MDT
DTSTART:20270314T090000
END:DAYLIGHT
BEGIN:STANDARD
TZOFFSETFROM:-0600
TZOFFSETTO:-0700
TZNAME:MST
DTSTART:20271107T080000
END:STANDARD
BEGIN:DAYLIGHT
TZOFFSETFROM:-0700
TZOFFSETTO:-0600
TZNAME:MDT
DTSTART:20280312T090000
END:DAYLIGHT
BEGIN:STANDARD
TZOFFSETFROM:-0600
TZOFFSETTO:-0700
TZNAME:MST
DTSTART:20281105T080000
END:STANDARD
BEGIN:DAYLIGHT
TZOFFSETFROM:-0700
TZOFFSETTO:-0600
TZNAME:MDT
DTSTART:20290311T090000
END:DAYLIGHT
BEGIN:STANDARD
TZOFFSETFROM:-0600
TZOFFSETTO:-0700
TZNAME:MST
DTSTART:20291104T080000
END:STANDARD
BEGIN:DAYLIGHT
TZOFFSETFROM:-0700
TZOFFSETTO:-0600
TZNAME:MDT
DTSTART:20300310T090000
END:DAYLIGHT
BEGIN:STANDARD
TZOFFSETFROM:-0600
TZOFFSETTO:-0700
TZNAME:MST
DTSTART:20301103T080000
END:STANDARD
END:VTIMEZONE
BEGIN:VEVENT
DTSTART;TZID=America/Denver:20280503T100000
DTEND;TZID=America/Denver:20280503T123000
DTSTAMP:20260420T054844
CREATED:20250428T193520Z
LAST-MODIFIED:20250428T194426Z
UID:10000169-1840960800-1840969800@rainbowneighbors.org
SUMMARY:Fremont Rainbow Community
DESCRIPTION:In partnership with The City of Fremont\, join Rainbowneighbors.org for our Fremont Rainbow Community\, a social and support group for the senior (55+) LGBTQ+ community and allies in Fremont and the Tri-City area. We will meet twice a month for community\, lectures\, discussion and outings. \n1st and 3rd Wednesdays\n10:00 a.m. – 12:30 p.m. \n40086 Paseo Padre Pkwy\nFremont\, CA 94538 \n510.790.6600
URL:https://rainbowneighbors.org/event/fremont-rainbow-community/2028-05-03/
LOCATION:Age Well Center\, Lake Elizabeth\, 40086 Paseo Padre Pkwy\, Fremont\, CA\, 94538\, United States
END:VEVENT
BEGIN:VEVENT
DTSTART;TZID=America/Denver:20280517T100000
DTEND;TZID=America/Denver:20280517T123000
DTSTAMP:20260420T054844
CREATED:20250428T194247Z
LAST-MODIFIED:20250711T191233Z
UID:10000289-1842170400-1842179400@rainbowneighbors.org
SUMMARY:Fremont Rainbow Community
DESCRIPTION:In partnership with The City of Fremont\, join Rainbowneighbors.org for our Fremont Rainbow Community\, a social and support group for the senior (55+) LGBTQ+ community and allies in Fremont and the Tri-City area. We will meet twice a month for community\, lectures\, discussion and outings. \nLunch is provided by the City of Fremont \n1st and 3rd Wednesdays\n10:00 a.m. – 12:30 p.m. \n40086 Paseo Padre Pkwy\nFremont\, CA 94538 \n510.790.6600
URL:https://rainbowneighbors.org/event/fremont-rainbow-community-2/2028-05-17/
LOCATION:Age Well Center\, Lake Elizabeth\, 40086 Paseo Padre Pkwy\, Fremont\, CA\, 94538\, United States
END:VEVENT
BEGIN:VEVENT
DTSTART;TZID=America/Denver:20280607T100000
DTEND;TZID=America/Denver:20280607T123000
DTSTAMP:20260420T054844
CREATED:20250428T193520Z
LAST-MODIFIED:20250428T194426Z
UID:10000170-1843984800-1843993800@rainbowneighbors.org
SUMMARY:Fremont Rainbow Community
DESCRIPTION:In partnership with The City of Fremont\, join Rainbowneighbors.org for our Fremont Rainbow Community\, a social and support group for the senior (55+) LGBTQ+ community and allies in Fremont and the Tri-City area. We will meet twice a month for community\, lectures\, discussion and outings. \n1st and 3rd Wednesdays\n10:00 a.m. – 12:30 p.m. \n40086 Paseo Padre Pkwy\nFremont\, CA 94538 \n510.790.6600
URL:https://rainbowneighbors.org/event/fremont-rainbow-community/2028-06-07/
LOCATION:Age Well Center\, Lake Elizabeth\, 40086 Paseo Padre Pkwy\, Fremont\, CA\, 94538\, United States
END:VEVENT
BEGIN:VEVENT
DTSTART;TZID=America/Denver:20280621T100000
DTEND;TZID=America/Denver:20280621T123000
DTSTAMP:20260420T054844
CREATED:20250428T194247Z
LAST-MODIFIED:20250711T191233Z
UID:10000290-1845194400-1845203400@rainbowneighbors.org
SUMMARY:Fremont Rainbow Community
DESCRIPTION:In partnership with The City of Fremont\, join Rainbowneighbors.org for our Fremont Rainbow Community\, a social and support group for the senior (55+) LGBTQ+ community and allies in Fremont and the Tri-City area. We will meet twice a month for community\, lectures\, discussion and outings. \nLunch is provided by the City of Fremont \n1st and 3rd Wednesdays\n10:00 a.m. – 12:30 p.m. \n40086 Paseo Padre Pkwy\nFremont\, CA 94538 \n510.790.6600
URL:https://rainbowneighbors.org/event/fremont-rainbow-community-2/2028-06-21/
LOCATION:Age Well Center\, Lake Elizabeth\, 40086 Paseo Padre Pkwy\, Fremont\, CA\, 94538\, United States
END:VEVENT
BEGIN:VEVENT
DTSTART;TZID=America/Denver:20280705T100000
DTEND;TZID=America/Denver:20280705T123000
DTSTAMP:20260420T054844
CREATED:20250428T193520Z
LAST-MODIFIED:20250428T194426Z
UID:10000171-1846404000-1846413000@rainbowneighbors.org
SUMMARY:Fremont Rainbow Community
DESCRIPTION:In partnership with The City of Fremont\, join Rainbowneighbors.org for our Fremont Rainbow Community\, a social and support group for the senior (55+) LGBTQ+ community and allies in Fremont and the Tri-City area. We will meet twice a month for community\, lectures\, discussion and outings. \n1st and 3rd Wednesdays\n10:00 a.m. – 12:30 p.m. \n40086 Paseo Padre Pkwy\nFremont\, CA 94538 \n510.790.6600
URL:https://rainbowneighbors.org/event/fremont-rainbow-community/2028-07-05/
LOCATION:Age Well Center\, Lake Elizabeth\, 40086 Paseo Padre Pkwy\, Fremont\, CA\, 94538\, United States
END:VEVENT
BEGIN:VEVENT
DTSTART;TZID=America/Denver:20280719T100000
DTEND;TZID=America/Denver:20280719T123000
DTSTAMP:20260420T054845
CREATED:20250428T194247Z
LAST-MODIFIED:20250711T191233Z
UID:10000291-1847613600-1847622600@rainbowneighbors.org
SUMMARY:Fremont Rainbow Community
DESCRIPTION:In partnership with The City of Fremont\, join Rainbowneighbors.org for our Fremont Rainbow Community\, a social and support group for the senior (55+) LGBTQ+ community and allies in Fremont and the Tri-City area. We will meet twice a month for community\, lectures\, discussion and outings. \nLunch is provided by the City of Fremont \n1st and 3rd Wednesdays\n10:00 a.m. – 12:30 p.m. \n40086 Paseo Padre Pkwy\nFremont\, CA 94538 \n510.790.6600
URL:https://rainbowneighbors.org/event/fremont-rainbow-community-2/2028-07-19/
LOCATION:Age Well Center\, Lake Elizabeth\, 40086 Paseo Padre Pkwy\, Fremont\, CA\, 94538\, United States
END:VEVENT
BEGIN:VEVENT
DTSTART;TZID=America/Denver:20280802T100000
DTEND;TZID=America/Denver:20280802T123000
DTSTAMP:20260420T054845
CREATED:20250428T193520Z
LAST-MODIFIED:20250428T194426Z
UID:10000172-1848823200-1848832200@rainbowneighbors.org
SUMMARY:Fremont Rainbow Community
DESCRIPTION:In partnership with The City of Fremont\, join Rainbowneighbors.org for our Fremont Rainbow Community\, a social and support group for the senior (55+) LGBTQ+ community and allies in Fremont and the Tri-City area. We will meet twice a month for community\, lectures\, discussion and outings. \n1st and 3rd Wednesdays\n10:00 a.m. – 12:30 p.m. \n40086 Paseo Padre Pkwy\nFremont\, CA 94538 \n510.790.6600
URL:https://rainbowneighbors.org/event/fremont-rainbow-community/2028-08-02/
LOCATION:Age Well Center\, Lake Elizabeth\, 40086 Paseo Padre Pkwy\, Fremont\, CA\, 94538\, United States
END:VEVENT
BEGIN:VEVENT
DTSTART;TZID=America/Denver:20280816T100000
DTEND;TZID=America/Denver:20280816T123000
DTSTAMP:20260420T054845
CREATED:20250428T194247Z
LAST-MODIFIED:20250711T191233Z
UID:10000292-1850032800-1850041800@rainbowneighbors.org
SUMMARY:Fremont Rainbow Community
DESCRIPTION:In partnership with The City of Fremont\, join Rainbowneighbors.org for our Fremont Rainbow Community\, a social and support group for the senior (55+) LGBTQ+ community and allies in Fremont and the Tri-City area. We will meet twice a month for community\, lectures\, discussion and outings. \nLunch is provided by the City of Fremont \n1st and 3rd Wednesdays\n10:00 a.m. – 12:30 p.m. \n40086 Paseo Padre Pkwy\nFremont\, CA 94538 \n510.790.6600
URL:https://rainbowneighbors.org/event/fremont-rainbow-community-2/2028-08-16/
LOCATION:Age Well Center\, Lake Elizabeth\, 40086 Paseo Padre Pkwy\, Fremont\, CA\, 94538\, United States
END:VEVENT
BEGIN:VEVENT
DTSTART;TZID=America/Denver:20280906T100000
DTEND;TZID=America/Denver:20280906T123000
DTSTAMP:20260420T054845
CREATED:20250428T193520Z
LAST-MODIFIED:20250428T194426Z
UID:10000173-1851847200-1851856200@rainbowneighbors.org
SUMMARY:Fremont Rainbow Community
DESCRIPTION:In partnership with The City of Fremont\, join Rainbowneighbors.org for our Fremont Rainbow Community\, a social and support group for the senior (55+) LGBTQ+ community and allies in Fremont and the Tri-City area. We will meet twice a month for community\, lectures\, discussion and outings. \n1st and 3rd Wednesdays\n10:00 a.m. – 12:30 p.m. \n40086 Paseo Padre Pkwy\nFremont\, CA 94538 \n510.790.6600
URL:https://rainbowneighbors.org/event/fremont-rainbow-community/2028-09-06/
LOCATION:Age Well Center\, Lake Elizabeth\, 40086 Paseo Padre Pkwy\, Fremont\, CA\, 94538\, United States
END:VEVENT
BEGIN:VEVENT
DTSTART;TZID=America/Denver:20280920T100000
DTEND;TZID=America/Denver:20280920T123000
DTSTAMP:20260420T054845
CREATED:20250428T194247Z
LAST-MODIFIED:20250711T191233Z
UID:10000293-1853056800-1853065800@rainbowneighbors.org
SUMMARY:Fremont Rainbow Community
DESCRIPTION:In partnership with The City of Fremont\, join Rainbowneighbors.org for our Fremont Rainbow Community\, a social and support group for the senior (55+) LGBTQ+ community and allies in Fremont and the Tri-City area. We will meet twice a month for community\, lectures\, discussion and outings. \nLunch is provided by the City of Fremont \n1st and 3rd Wednesdays\n10:00 a.m. – 12:30 p.m. \n40086 Paseo Padre Pkwy\nFremont\, CA 94538 \n510.790.6600
URL:https://rainbowneighbors.org/event/fremont-rainbow-community-2/2028-09-20/
LOCATION:Age Well Center\, Lake Elizabeth\, 40086 Paseo Padre Pkwy\, Fremont\, CA\, 94538\, United States
END:VEVENT
BEGIN:VEVENT
DTSTART;TZID=America/Denver:20281004T100000
DTEND;TZID=America/Denver:20281004T123000
DTSTAMP:20260420T054845
CREATED:20250428T193520Z
LAST-MODIFIED:20250428T194426Z
UID:10000174-1854266400-1854275400@rainbowneighbors.org
SUMMARY:Fremont Rainbow Community
DESCRIPTION:In partnership with The City of Fremont\, join Rainbowneighbors.org for our Fremont Rainbow Community\, a social and support group for the senior (55+) LGBTQ+ community and allies in Fremont and the Tri-City area. We will meet twice a month for community\, lectures\, discussion and outings. \n1st and 3rd Wednesdays\n10:00 a.m. – 12:30 p.m. \n40086 Paseo Padre Pkwy\nFremont\, CA 94538 \n510.790.6600
URL:https://rainbowneighbors.org/event/fremont-rainbow-community/2028-10-04/
LOCATION:Age Well Center\, Lake Elizabeth\, 40086 Paseo Padre Pkwy\, Fremont\, CA\, 94538\, United States
END:VEVENT
BEGIN:VEVENT
DTSTART;TZID=America/Denver:20281018T100000
DTEND;TZID=America/Denver:20281018T123000
DTSTAMP:20260420T054845
CREATED:20250428T194247Z
LAST-MODIFIED:20250711T191233Z
UID:10000294-1855476000-1855485000@rainbowneighbors.org
SUMMARY:Fremont Rainbow Community
DESCRIPTION:In partnership with The City of Fremont\, join Rainbowneighbors.org for our Fremont Rainbow Community\, a social and support group for the senior (55+) LGBTQ+ community and allies in Fremont and the Tri-City area. We will meet twice a month for community\, lectures\, discussion and outings. \nLunch is provided by the City of Fremont \n1st and 3rd Wednesdays\n10:00 a.m. – 12:30 p.m. \n40086 Paseo Padre Pkwy\nFremont\, CA 94538 \n510.790.6600
URL:https://rainbowneighbors.org/event/fremont-rainbow-community-2/2028-10-18/
LOCATION:Age Well Center\, Lake Elizabeth\, 40086 Paseo Padre Pkwy\, Fremont\, CA\, 94538\, United States
END:VEVENT
BEGIN:VEVENT
DTSTART;TZID=America/Denver:20281101T100000
DTEND;TZID=America/Denver:20281101T123000
DTSTAMP:20260420T054845
CREATED:20250428T193520Z
LAST-MODIFIED:20250428T194426Z
UID:10000175-1856685600-1856694600@rainbowneighbors.org
SUMMARY:Fremont Rainbow Community
DESCRIPTION:In partnership with The City of Fremont\, join Rainbowneighbors.org for our Fremont Rainbow Community\, a social and support group for the senior (55+) LGBTQ+ community and allies in Fremont and the Tri-City area. We will meet twice a month for community\, lectures\, discussion and outings. \n1st and 3rd Wednesdays\n10:00 a.m. – 12:30 p.m. \n40086 Paseo Padre Pkwy\nFremont\, CA 94538 \n510.790.6600
URL:https://rainbowneighbors.org/event/fremont-rainbow-community/2028-11-01/
LOCATION:Age Well Center\, Lake Elizabeth\, 40086 Paseo Padre Pkwy\, Fremont\, CA\, 94538\, United States
END:VEVENT
BEGIN:VEVENT
DTSTART;TZID=America/Denver:20281115T100000
DTEND;TZID=America/Denver:20281115T123000
DTSTAMP:20260420T054845
CREATED:20250428T194247Z
LAST-MODIFIED:20250711T191233Z
UID:10000295-1857895200-1857904200@rainbowneighbors.org
SUMMARY:Fremont Rainbow Community
DESCRIPTION:In partnership with The City of Fremont\, join Rainbowneighbors.org for our Fremont Rainbow Community\, a social and support group for the senior (55+) LGBTQ+ community and allies in Fremont and the Tri-City area. We will meet twice a month for community\, lectures\, discussion and outings. \nLunch is provided by the City of Fremont \n1st and 3rd Wednesdays\n10:00 a.m. – 12:30 p.m. \n40086 Paseo Padre Pkwy\nFremont\, CA 94538 \n510.790.6600
URL:https://rainbowneighbors.org/event/fremont-rainbow-community-2/2028-11-15/
LOCATION:Age Well Center\, Lake Elizabeth\, 40086 Paseo Padre Pkwy\, Fremont\, CA\, 94538\, United States
END:VEVENT
BEGIN:VEVENT
DTSTART;TZID=America/Denver:20281206T100000
DTEND;TZID=America/Denver:20281206T123000
DTSTAMP:20260420T054845
CREATED:20250428T193520Z
LAST-MODIFIED:20250428T194426Z
UID:10000176-1859709600-1859718600@rainbowneighbors.org
SUMMARY:Fremont Rainbow Community
DESCRIPTION:In partnership with The City of Fremont\, join Rainbowneighbors.org for our Fremont Rainbow Community\, a social and support group for the senior (55+) LGBTQ+ community and allies in Fremont and the Tri-City area. We will meet twice a month for community\, lectures\, discussion and outings. \n1st and 3rd Wednesdays\n10:00 a.m. – 12:30 p.m. \n40086 Paseo Padre Pkwy\nFremont\, CA 94538 \n510.790.6600
URL:https://rainbowneighbors.org/event/fremont-rainbow-community/2028-12-06/
LOCATION:Age Well Center\, Lake Elizabeth\, 40086 Paseo Padre Pkwy\, Fremont\, CA\, 94538\, United States
END:VEVENT
BEGIN:VEVENT
DTSTART;TZID=America/Denver:20281220T100000
DTEND;TZID=America/Denver:20281220T123000
DTSTAMP:20260420T054845
CREATED:20250428T194247Z
LAST-MODIFIED:20250711T191233Z
UID:10000296-1860919200-1860928200@rainbowneighbors.org
SUMMARY:Fremont Rainbow Community
DESCRIPTION:In partnership with The City of Fremont\, join Rainbowneighbors.org for our Fremont Rainbow Community\, a social and support group for the senior (55+) LGBTQ+ community and allies in Fremont and the Tri-City area. We will meet twice a month for community\, lectures\, discussion and outings. \nLunch is provided by the City of Fremont \n1st and 3rd Wednesdays\n10:00 a.m. – 12:30 p.m. \n40086 Paseo Padre Pkwy\nFremont\, CA 94538 \n510.790.6600
URL:https://rainbowneighbors.org/event/fremont-rainbow-community-2/2028-12-20/
LOCATION:Age Well Center\, Lake Elizabeth\, 40086 Paseo Padre Pkwy\, Fremont\, CA\, 94538\, United States
END:VEVENT
BEGIN:VEVENT
DTSTART;TZID=America/Denver:20290103T100000
DTEND;TZID=America/Denver:20290103T123000
DTSTAMP:20260420T054845
CREATED:20250428T193520Z
LAST-MODIFIED:20250428T194426Z
UID:10000177-1862128800-1862137800@rainbowneighbors.org
SUMMARY:Fremont Rainbow Community
DESCRIPTION:In partnership with The City of Fremont\, join Rainbowneighbors.org for our Fremont Rainbow Community\, a social and support group for the senior (55+) LGBTQ+ community and allies in Fremont and the Tri-City area. We will meet twice a month for community\, lectures\, discussion and outings. \n1st and 3rd Wednesdays\n10:00 a.m. – 12:30 p.m. \n40086 Paseo Padre Pkwy\nFremont\, CA 94538 \n510.790.6600
URL:https://rainbowneighbors.org/event/fremont-rainbow-community/2029-01-03/
LOCATION:Age Well Center\, Lake Elizabeth\, 40086 Paseo Padre Pkwy\, Fremont\, CA\, 94538\, United States
END:VEVENT
BEGIN:VEVENT
DTSTART;TZID=America/Denver:20290117T100000
DTEND;TZID=America/Denver:20290117T123000
DTSTAMP:20260420T054845
CREATED:20250428T194247Z
LAST-MODIFIED:20250711T191233Z
UID:10000297-1863338400-1863347400@rainbowneighbors.org
SUMMARY:Fremont Rainbow Community
DESCRIPTION:In partnership with The City of Fremont\, join Rainbowneighbors.org for our Fremont Rainbow Community\, a social and support group for the senior (55+) LGBTQ+ community and allies in Fremont and the Tri-City area. We will meet twice a month for community\, lectures\, discussion and outings. \nLunch is provided by the City of Fremont \n1st and 3rd Wednesdays\n10:00 a.m. – 12:30 p.m. \n40086 Paseo Padre Pkwy\nFremont\, CA 94538 \n510.790.6600
URL:https://rainbowneighbors.org/event/fremont-rainbow-community-2/2029-01-17/
LOCATION:Age Well Center\, Lake Elizabeth\, 40086 Paseo Padre Pkwy\, Fremont\, CA\, 94538\, United States
END:VEVENT
BEGIN:VEVENT
DTSTART;TZID=America/Denver:20290207T100000
DTEND;TZID=America/Denver:20290207T123000
DTSTAMP:20260420T054845
CREATED:20250428T193520Z
LAST-MODIFIED:20250428T194426Z
UID:10000178-1865152800-1865161800@rainbowneighbors.org
SUMMARY:Fremont Rainbow Community
DESCRIPTION:In partnership with The City of Fremont\, join Rainbowneighbors.org for our Fremont Rainbow Community\, a social and support group for the senior (55+) LGBTQ+ community and allies in Fremont and the Tri-City area. We will meet twice a month for community\, lectures\, discussion and outings. \n1st and 3rd Wednesdays\n10:00 a.m. – 12:30 p.m. \n40086 Paseo Padre Pkwy\nFremont\, CA 94538 \n510.790.6600
URL:https://rainbowneighbors.org/event/fremont-rainbow-community/2029-02-07/
LOCATION:Age Well Center\, Lake Elizabeth\, 40086 Paseo Padre Pkwy\, Fremont\, CA\, 94538\, United States
END:VEVENT
BEGIN:VEVENT
DTSTART;TZID=America/Denver:20290221T100000
DTEND;TZID=America/Denver:20290221T123000
DTSTAMP:20260420T054845
CREATED:20250428T194247Z
LAST-MODIFIED:20250711T191233Z
UID:10000298-1866362400-1866371400@rainbowneighbors.org
SUMMARY:Fremont Rainbow Community
DESCRIPTION:In partnership with The City of Fremont\, join Rainbowneighbors.org for our Fremont Rainbow Community\, a social and support group for the senior (55+) LGBTQ+ community and allies in Fremont and the Tri-City area. We will meet twice a month for community\, lectures\, discussion and outings. \nLunch is provided by the City of Fremont \n1st and 3rd Wednesdays\n10:00 a.m. – 12:30 p.m. \n40086 Paseo Padre Pkwy\nFremont\, CA 94538 \n510.790.6600
URL:https://rainbowneighbors.org/event/fremont-rainbow-community-2/2029-02-21/
LOCATION:Age Well Center\, Lake Elizabeth\, 40086 Paseo Padre Pkwy\, Fremont\, CA\, 94538\, United States
END:VEVENT
BEGIN:VEVENT
DTSTART;TZID=America/Denver:20290307T100000
DTEND;TZID=America/Denver:20290307T123000
DTSTAMP:20260420T054845
CREATED:20250428T193520Z
LAST-MODIFIED:20250428T194426Z
UID:10000179-1867572000-1867581000@rainbowneighbors.org
SUMMARY:Fremont Rainbow Community
DESCRIPTION:In partnership with The City of Fremont\, join Rainbowneighbors.org for our Fremont Rainbow Community\, a social and support group for the senior (55+) LGBTQ+ community and allies in Fremont and the Tri-City area. We will meet twice a month for community\, lectures\, discussion and outings. \n1st and 3rd Wednesdays\n10:00 a.m. – 12:30 p.m. \n40086 Paseo Padre Pkwy\nFremont\, CA 94538 \n510.790.6600
URL:https://rainbowneighbors.org/event/fremont-rainbow-community/2029-03-07/
LOCATION:Age Well Center\, Lake Elizabeth\, 40086 Paseo Padre Pkwy\, Fremont\, CA\, 94538\, United States
END:VEVENT
BEGIN:VEVENT
DTSTART;TZID=America/Denver:20290321T100000
DTEND;TZID=America/Denver:20290321T123000
DTSTAMP:20260420T054845
CREATED:20250428T194247Z
LAST-MODIFIED:20250711T191233Z
UID:10000299-1868781600-1868790600@rainbowneighbors.org
SUMMARY:Fremont Rainbow Community
DESCRIPTION:In partnership with The City of Fremont\, join Rainbowneighbors.org for our Fremont Rainbow Community\, a social and support group for the senior (55+) LGBTQ+ community and allies in Fremont and the Tri-City area. We will meet twice a month for community\, lectures\, discussion and outings. \nLunch is provided by the City of Fremont \n1st and 3rd Wednesdays\n10:00 a.m. – 12:30 p.m. \n40086 Paseo Padre Pkwy\nFremont\, CA 94538 \n510.790.6600
URL:https://rainbowneighbors.org/event/fremont-rainbow-community-2/2029-03-21/
LOCATION:Age Well Center\, Lake Elizabeth\, 40086 Paseo Padre Pkwy\, Fremont\, CA\, 94538\, United States
END:VEVENT
BEGIN:VEVENT
DTSTART;TZID=America/Denver:20290404T100000
DTEND;TZID=America/Denver:20290404T123000
DTSTAMP:20260420T054845
CREATED:20250428T193520Z
LAST-MODIFIED:20250428T194426Z
UID:10000180-1869991200-1870000200@rainbowneighbors.org
SUMMARY:Fremont Rainbow Community
DESCRIPTION:In partnership with The City of Fremont\, join Rainbowneighbors.org for our Fremont Rainbow Community\, a social and support group for the senior (55+) LGBTQ+ community and allies in Fremont and the Tri-City area. We will meet twice a month for community\, lectures\, discussion and outings. \n1st and 3rd Wednesdays\n10:00 a.m. – 12:30 p.m. \n40086 Paseo Padre Pkwy\nFremont\, CA 94538 \n510.790.6600
URL:https://rainbowneighbors.org/event/fremont-rainbow-community/2029-04-04/
LOCATION:Age Well Center\, Lake Elizabeth\, 40086 Paseo Padre Pkwy\, Fremont\, CA\, 94538\, United States
END:VEVENT
BEGIN:VEVENT
DTSTART;TZID=America/Denver:20290418T100000
DTEND;TZID=America/Denver:20290418T123000
DTSTAMP:20260420T054845
CREATED:20250428T194247Z
LAST-MODIFIED:20250711T191233Z
UID:10000300-1871200800-1871209800@rainbowneighbors.org
SUMMARY:Fremont Rainbow Community
DESCRIPTION:In partnership with The City of Fremont\, join Rainbowneighbors.org for our Fremont Rainbow Community\, a social and support group for the senior (55+) LGBTQ+ community and allies in Fremont and the Tri-City area. We will meet twice a month for community\, lectures\, discussion and outings. \nLunch is provided by the City of Fremont \n1st and 3rd Wednesdays\n10:00 a.m. – 12:30 p.m. \n40086 Paseo Padre Pkwy\nFremont\, CA 94538 \n510.790.6600
URL:https://rainbowneighbors.org/event/fremont-rainbow-community-2/2029-04-18/
LOCATION:Age Well Center\, Lake Elizabeth\, 40086 Paseo Padre Pkwy\, Fremont\, CA\, 94538\, United States
END:VEVENT
BEGIN:VEVENT
DTSTART;TZID=America/Denver:20290502T100000
DTEND;TZID=America/Denver:20290502T123000
DTSTAMP:20260420T054845
CREATED:20250428T193520Z
LAST-MODIFIED:20250428T194426Z
UID:10000181-1872410400-1872419400@rainbowneighbors.org
SUMMARY:Fremont Rainbow Community
DESCRIPTION:In partnership with The City of Fremont\, join Rainbowneighbors.org for our Fremont Rainbow Community\, a social and support group for the senior (55+) LGBTQ+ community and allies in Fremont and the Tri-City area. We will meet twice a month for community\, lectures\, discussion and outings. \n1st and 3rd Wednesdays\n10:00 a.m. – 12:30 p.m. \n40086 Paseo Padre Pkwy\nFremont\, CA 94538 \n510.790.6600
URL:https://rainbowneighbors.org/event/fremont-rainbow-community/2029-05-02/
LOCATION:Age Well Center\, Lake Elizabeth\, 40086 Paseo Padre Pkwy\, Fremont\, CA\, 94538\, United States
END:VEVENT
BEGIN:VEVENT
DTSTART;TZID=America/Denver:20290516T100000
DTEND;TZID=America/Denver:20290516T123000
DTSTAMP:20260420T054845
CREATED:20250428T194247Z
LAST-MODIFIED:20250711T191233Z
UID:10000301-1873620000-1873629000@rainbowneighbors.org
SUMMARY:Fremont Rainbow Community
DESCRIPTION:In partnership with The City of Fremont\, join Rainbowneighbors.org for our Fremont Rainbow Community\, a social and support group for the senior (55+) LGBTQ+ community and allies in Fremont and the Tri-City area. We will meet twice a month for community\, lectures\, discussion and outings. \nLunch is provided by the City of Fremont \n1st and 3rd Wednesdays\n10:00 a.m. – 12:30 p.m. \n40086 Paseo Padre Pkwy\nFremont\, CA 94538 \n510.790.6600
URL:https://rainbowneighbors.org/event/fremont-rainbow-community-2/2029-05-16/
LOCATION:Age Well Center\, Lake Elizabeth\, 40086 Paseo Padre Pkwy\, Fremont\, CA\, 94538\, United States
END:VEVENT
BEGIN:VEVENT
DTSTART;TZID=America/Denver:20290606T100000
DTEND;TZID=America/Denver:20290606T123000
DTSTAMP:20260420T054845
CREATED:20250428T193520Z
LAST-MODIFIED:20250428T194426Z
UID:10000182-1875434400-1875443400@rainbowneighbors.org
SUMMARY:Fremont Rainbow Community
DESCRIPTION:In partnership with The City of Fremont\, join Rainbowneighbors.org for our Fremont Rainbow Community\, a social and support group for the senior (55+) LGBTQ+ community and allies in Fremont and the Tri-City area. We will meet twice a month for community\, lectures\, discussion and outings. \n1st and 3rd Wednesdays\n10:00 a.m. – 12:30 p.m. \n40086 Paseo Padre Pkwy\nFremont\, CA 94538 \n510.790.6600
URL:https://rainbowneighbors.org/event/fremont-rainbow-community/2029-06-06/
LOCATION:Age Well Center\, Lake Elizabeth\, 40086 Paseo Padre Pkwy\, Fremont\, CA\, 94538\, United States
END:VEVENT
BEGIN:VEVENT
DTSTART;TZID=America/Denver:20290620T100000
DTEND;TZID=America/Denver:20290620T123000
DTSTAMP:20260420T054845
CREATED:20250428T194247Z
LAST-MODIFIED:20250711T191233Z
UID:10000302-1876644000-1876653000@rainbowneighbors.org
SUMMARY:Fremont Rainbow Community
DESCRIPTION:In partnership with The City of Fremont\, join Rainbowneighbors.org for our Fremont Rainbow Community\, a social and support group for the senior (55+) LGBTQ+ community and allies in Fremont and the Tri-City area. We will meet twice a month for community\, lectures\, discussion and outings. \nLunch is provided by the City of Fremont \n1st and 3rd Wednesdays\n10:00 a.m. – 12:30 p.m. \n40086 Paseo Padre Pkwy\nFremont\, CA 94538 \n510.790.6600
URL:https://rainbowneighbors.org/event/fremont-rainbow-community-2/2029-06-20/
LOCATION:Age Well Center\, Lake Elizabeth\, 40086 Paseo Padre Pkwy\, Fremont\, CA\, 94538\, United States
END:VEVENT
BEGIN:VEVENT
DTSTART;TZID=America/Denver:20290704T100000
DTEND;TZID=America/Denver:20290704T123000
DTSTAMP:20260420T054845
CREATED:20250428T193520Z
LAST-MODIFIED:20250428T194426Z
UID:10000183-1877853600-1877862600@rainbowneighbors.org
SUMMARY:Fremont Rainbow Community
DESCRIPTION:In partnership with The City of Fremont\, join Rainbowneighbors.org for our Fremont Rainbow Community\, a social and support group for the senior (55+) LGBTQ+ community and allies in Fremont and the Tri-City area. We will meet twice a month for community\, lectures\, discussion and outings. \n1st and 3rd Wednesdays\n10:00 a.m. – 12:30 p.m. \n40086 Paseo Padre Pkwy\nFremont\, CA 94538 \n510.790.6600
URL:https://rainbowneighbors.org/event/fremont-rainbow-community/2029-07-04/
LOCATION:Age Well Center\, Lake Elizabeth\, 40086 Paseo Padre Pkwy\, Fremont\, CA\, 94538\, United States
END:VEVENT
BEGIN:VEVENT
DTSTART;TZID=America/Denver:20290718T100000
DTEND;TZID=America/Denver:20290718T123000
DTSTAMP:20260420T054845
CREATED:20250428T194247Z
LAST-MODIFIED:20250711T191233Z
UID:10000303-1879063200-1879072200@rainbowneighbors.org
SUMMARY:Fremont Rainbow Community
DESCRIPTION:In partnership with The City of Fremont\, join Rainbowneighbors.org for our Fremont Rainbow Community\, a social and support group for the senior (55+) LGBTQ+ community and allies in Fremont and the Tri-City area. We will meet twice a month for community\, lectures\, discussion and outings. \nLunch is provided by the City of Fremont \n1st and 3rd Wednesdays\n10:00 a.m. – 12:30 p.m. \n40086 Paseo Padre Pkwy\nFremont\, CA 94538 \n510.790.6600
URL:https://rainbowneighbors.org/event/fremont-rainbow-community-2/2029-07-18/
LOCATION:Age Well Center\, Lake Elizabeth\, 40086 Paseo Padre Pkwy\, Fremont\, CA\, 94538\, United States
END:VEVENT
END:VCALENDAR