BEGIN:VCALENDAR
VERSION:2.0
PRODID:-//Rainbowneighbors.org - ECPv6.15.20//NONSGML v1.0//EN
CALSCALE:GREGORIAN
METHOD:PUBLISH
X-ORIGINAL-URL:https://rainbowneighbors.org
X-WR-CALDESC:Events for Rainbowneighbors.org
REFRESH-INTERVAL;VALUE=DURATION:PT1H
X-Robots-Tag:noindex
X-PUBLISHED-TTL:PT1H
BEGIN:VTIMEZONE
TZID:America/Denver
BEGIN:DAYLIGHT
TZOFFSETFROM:-0700
TZOFFSETTO:-0600
TZNAME:MDT
DTSTART:20250309T090000
END:DAYLIGHT
BEGIN:STANDARD
TZOFFSETFROM:-0600
TZOFFSETTO:-0700
TZNAME:MST
DTSTART:20251102T080000
END:STANDARD
BEGIN:DAYLIGHT
TZOFFSETFROM:-0700
TZOFFSETTO:-0600
TZNAME:MDT
DTSTART:20260308T090000
END:DAYLIGHT
BEGIN:STANDARD
TZOFFSETFROM:-0600
TZOFFSETTO:-0700
TZNAME:MST
DTSTART:20261101T080000
END:STANDARD
BEGIN:DAYLIGHT
TZOFFSETFROM:-0700
TZOFFSETTO:-0600
TZNAME:MDT
DTSTART:20270314T090000
END:DAYLIGHT
BEGIN:STANDARD
TZOFFSETFROM:-0600
TZOFFSETTO:-0700
TZNAME:MST
DTSTART:20271107T080000
END:STANDARD
BEGIN:DAYLIGHT
TZOFFSETFROM:-0700
TZOFFSETTO:-0600
TZNAME:MDT
DTSTART:20280312T090000
END:DAYLIGHT
BEGIN:STANDARD
TZOFFSETFROM:-0600
TZOFFSETTO:-0700
TZNAME:MST
DTSTART:20281105T080000
END:STANDARD
END:VTIMEZONE
BEGIN:VEVENT
DTSTART;TZID=America/Denver:20260506T100000
DTEND;TZID=America/Denver:20260506T123000
DTSTAMP:20260420T000349
CREATED:20250428T193520Z
LAST-MODIFIED:20250428T194426Z
UID:10000145-1778061600-1778070600@rainbowneighbors.org
SUMMARY:Fremont Rainbow Community
DESCRIPTION:In partnership with The City of Fremont\, join Rainbowneighbors.org for our Fremont Rainbow Community\, a social and support group for the senior (55+) LGBTQ+ community and allies in Fremont and the Tri-City area. We will meet twice a month for community\, lectures\, discussion and outings. \n1st and 3rd Wednesdays\n10:00 a.m. – 12:30 p.m. \n40086 Paseo Padre Pkwy\nFremont\, CA 94538 \n510.790.6600
URL:https://rainbowneighbors.org/event/fremont-rainbow-community/2026-05-06/
LOCATION:Age Well Center\, Lake Elizabeth\, 40086 Paseo Padre Pkwy\, Fremont\, CA\, 94538\, United States
END:VEVENT
BEGIN:VEVENT
DTSTART;TZID=America/Denver:20260520T100000
DTEND;TZID=America/Denver:20260520T123000
DTSTAMP:20260420T000349
CREATED:20250428T194247Z
LAST-MODIFIED:20250711T191233Z
UID:10000265-1779271200-1779280200@rainbowneighbors.org
SUMMARY:Fremont Rainbow Community
DESCRIPTION:In partnership with The City of Fremont\, join Rainbowneighbors.org for our Fremont Rainbow Community\, a social and support group for the senior (55+) LGBTQ+ community and allies in Fremont and the Tri-City area. We will meet twice a month for community\, lectures\, discussion and outings. \nLunch is provided by the City of Fremont \n1st and 3rd Wednesdays\n10:00 a.m. – 12:30 p.m. \n40086 Paseo Padre Pkwy\nFremont\, CA 94538 \n510.790.6600
URL:https://rainbowneighbors.org/event/fremont-rainbow-community-2/2026-05-20/
LOCATION:Age Well Center\, Lake Elizabeth\, 40086 Paseo Padre Pkwy\, Fremont\, CA\, 94538\, United States
END:VEVENT
BEGIN:VEVENT
DTSTART;TZID=America/Denver:20260603T100000
DTEND;TZID=America/Denver:20260603T123000
DTSTAMP:20260420T000349
CREATED:20250428T193520Z
LAST-MODIFIED:20250428T194426Z
UID:10000146-1780480800-1780489800@rainbowneighbors.org
SUMMARY:Fremont Rainbow Community
DESCRIPTION:In partnership with The City of Fremont\, join Rainbowneighbors.org for our Fremont Rainbow Community\, a social and support group for the senior (55+) LGBTQ+ community and allies in Fremont and the Tri-City area. We will meet twice a month for community\, lectures\, discussion and outings. \n1st and 3rd Wednesdays\n10:00 a.m. – 12:30 p.m. \n40086 Paseo Padre Pkwy\nFremont\, CA 94538 \n510.790.6600
URL:https://rainbowneighbors.org/event/fremont-rainbow-community/2026-06-03/
LOCATION:Age Well Center\, Lake Elizabeth\, 40086 Paseo Padre Pkwy\, Fremont\, CA\, 94538\, United States
END:VEVENT
BEGIN:VEVENT
DTSTART;TZID=America/Denver:20260617T100000
DTEND;TZID=America/Denver:20260617T123000
DTSTAMP:20260420T000349
CREATED:20250428T194247Z
LAST-MODIFIED:20250711T191233Z
UID:10000266-1781690400-1781699400@rainbowneighbors.org
SUMMARY:Fremont Rainbow Community
DESCRIPTION:In partnership with The City of Fremont\, join Rainbowneighbors.org for our Fremont Rainbow Community\, a social and support group for the senior (55+) LGBTQ+ community and allies in Fremont and the Tri-City area. We will meet twice a month for community\, lectures\, discussion and outings. \nLunch is provided by the City of Fremont \n1st and 3rd Wednesdays\n10:00 a.m. – 12:30 p.m. \n40086 Paseo Padre Pkwy\nFremont\, CA 94538 \n510.790.6600
URL:https://rainbowneighbors.org/event/fremont-rainbow-community-2/2026-06-17/
LOCATION:Age Well Center\, Lake Elizabeth\, 40086 Paseo Padre Pkwy\, Fremont\, CA\, 94538\, United States
END:VEVENT
BEGIN:VEVENT
DTSTART;TZID=America/Denver:20260701T100000
DTEND;TZID=America/Denver:20260701T123000
DTSTAMP:20260420T000349
CREATED:20250428T193520Z
LAST-MODIFIED:20250428T194426Z
UID:10000147-1782900000-1782909000@rainbowneighbors.org
SUMMARY:Fremont Rainbow Community
DESCRIPTION:In partnership with The City of Fremont\, join Rainbowneighbors.org for our Fremont Rainbow Community\, a social and support group for the senior (55+) LGBTQ+ community and allies in Fremont and the Tri-City area. We will meet twice a month for community\, lectures\, discussion and outings. \n1st and 3rd Wednesdays\n10:00 a.m. – 12:30 p.m. \n40086 Paseo Padre Pkwy\nFremont\, CA 94538 \n510.790.6600
URL:https://rainbowneighbors.org/event/fremont-rainbow-community/2026-07-01/
LOCATION:Age Well Center\, Lake Elizabeth\, 40086 Paseo Padre Pkwy\, Fremont\, CA\, 94538\, United States
END:VEVENT
BEGIN:VEVENT
DTSTART;TZID=America/Denver:20260715T100000
DTEND;TZID=America/Denver:20260715T123000
DTSTAMP:20260420T000349
CREATED:20250428T194247Z
LAST-MODIFIED:20250711T191233Z
UID:10000267-1784109600-1784118600@rainbowneighbors.org
SUMMARY:Fremont Rainbow Community
DESCRIPTION:In partnership with The City of Fremont\, join Rainbowneighbors.org for our Fremont Rainbow Community\, a social and support group for the senior (55+) LGBTQ+ community and allies in Fremont and the Tri-City area. We will meet twice a month for community\, lectures\, discussion and outings. \nLunch is provided by the City of Fremont \n1st and 3rd Wednesdays\n10:00 a.m. – 12:30 p.m. \n40086 Paseo Padre Pkwy\nFremont\, CA 94538 \n510.790.6600
URL:https://rainbowneighbors.org/event/fremont-rainbow-community-2/2026-07-15/
LOCATION:Age Well Center\, Lake Elizabeth\, 40086 Paseo Padre Pkwy\, Fremont\, CA\, 94538\, United States
END:VEVENT
BEGIN:VEVENT
DTSTART;TZID=America/Denver:20260805T100000
DTEND;TZID=America/Denver:20260805T123000
DTSTAMP:20260420T000349
CREATED:20250428T193520Z
LAST-MODIFIED:20250428T194426Z
UID:10000148-1785924000-1785933000@rainbowneighbors.org
SUMMARY:Fremont Rainbow Community
DESCRIPTION:In partnership with The City of Fremont\, join Rainbowneighbors.org for our Fremont Rainbow Community\, a social and support group for the senior (55+) LGBTQ+ community and allies in Fremont and the Tri-City area. We will meet twice a month for community\, lectures\, discussion and outings. \n1st and 3rd Wednesdays\n10:00 a.m. – 12:30 p.m. \n40086 Paseo Padre Pkwy\nFremont\, CA 94538 \n510.790.6600
URL:https://rainbowneighbors.org/event/fremont-rainbow-community/2026-08-05/
LOCATION:Age Well Center\, Lake Elizabeth\, 40086 Paseo Padre Pkwy\, Fremont\, CA\, 94538\, United States
END:VEVENT
BEGIN:VEVENT
DTSTART;TZID=America/Denver:20260819T100000
DTEND;TZID=America/Denver:20260819T123000
DTSTAMP:20260420T000349
CREATED:20250428T194247Z
LAST-MODIFIED:20250711T191233Z
UID:10000268-1787133600-1787142600@rainbowneighbors.org
SUMMARY:Fremont Rainbow Community
DESCRIPTION:In partnership with The City of Fremont\, join Rainbowneighbors.org for our Fremont Rainbow Community\, a social and support group for the senior (55+) LGBTQ+ community and allies in Fremont and the Tri-City area. We will meet twice a month for community\, lectures\, discussion and outings. \nLunch is provided by the City of Fremont \n1st and 3rd Wednesdays\n10:00 a.m. – 12:30 p.m. \n40086 Paseo Padre Pkwy\nFremont\, CA 94538 \n510.790.6600
URL:https://rainbowneighbors.org/event/fremont-rainbow-community-2/2026-08-19/
LOCATION:Age Well Center\, Lake Elizabeth\, 40086 Paseo Padre Pkwy\, Fremont\, CA\, 94538\, United States
END:VEVENT
BEGIN:VEVENT
DTSTART;TZID=America/Denver:20260902T100000
DTEND;TZID=America/Denver:20260902T123000
DTSTAMP:20260420T000349
CREATED:20250428T193520Z
LAST-MODIFIED:20250428T194426Z
UID:10000149-1788343200-1788352200@rainbowneighbors.org
SUMMARY:Fremont Rainbow Community
DESCRIPTION:In partnership with The City of Fremont\, join Rainbowneighbors.org for our Fremont Rainbow Community\, a social and support group for the senior (55+) LGBTQ+ community and allies in Fremont and the Tri-City area. We will meet twice a month for community\, lectures\, discussion and outings. \n1st and 3rd Wednesdays\n10:00 a.m. – 12:30 p.m. \n40086 Paseo Padre Pkwy\nFremont\, CA 94538 \n510.790.6600
URL:https://rainbowneighbors.org/event/fremont-rainbow-community/2026-09-02/
LOCATION:Age Well Center\, Lake Elizabeth\, 40086 Paseo Padre Pkwy\, Fremont\, CA\, 94538\, United States
END:VEVENT
BEGIN:VEVENT
DTSTART;TZID=America/Denver:20260916T100000
DTEND;TZID=America/Denver:20260916T123000
DTSTAMP:20260420T000349
CREATED:20250428T194247Z
LAST-MODIFIED:20250711T191233Z
UID:10000269-1789552800-1789561800@rainbowneighbors.org
SUMMARY:Fremont Rainbow Community
DESCRIPTION:In partnership with The City of Fremont\, join Rainbowneighbors.org for our Fremont Rainbow Community\, a social and support group for the senior (55+) LGBTQ+ community and allies in Fremont and the Tri-City area. We will meet twice a month for community\, lectures\, discussion and outings. \nLunch is provided by the City of Fremont \n1st and 3rd Wednesdays\n10:00 a.m. – 12:30 p.m. \n40086 Paseo Padre Pkwy\nFremont\, CA 94538 \n510.790.6600
URL:https://rainbowneighbors.org/event/fremont-rainbow-community-2/2026-09-16/
LOCATION:Age Well Center\, Lake Elizabeth\, 40086 Paseo Padre Pkwy\, Fremont\, CA\, 94538\, United States
END:VEVENT
BEGIN:VEVENT
DTSTART;TZID=America/Denver:20261007T100000
DTEND;TZID=America/Denver:20261007T123000
DTSTAMP:20260420T000349
CREATED:20250428T193520Z
LAST-MODIFIED:20250428T194426Z
UID:10000150-1791367200-1791376200@rainbowneighbors.org
SUMMARY:Fremont Rainbow Community
DESCRIPTION:In partnership with The City of Fremont\, join Rainbowneighbors.org for our Fremont Rainbow Community\, a social and support group for the senior (55+) LGBTQ+ community and allies in Fremont and the Tri-City area. We will meet twice a month for community\, lectures\, discussion and outings. \n1st and 3rd Wednesdays\n10:00 a.m. – 12:30 p.m. \n40086 Paseo Padre Pkwy\nFremont\, CA 94538 \n510.790.6600
URL:https://rainbowneighbors.org/event/fremont-rainbow-community/2026-10-07/
LOCATION:Age Well Center\, Lake Elizabeth\, 40086 Paseo Padre Pkwy\, Fremont\, CA\, 94538\, United States
END:VEVENT
BEGIN:VEVENT
DTSTART;TZID=America/Denver:20261021T100000
DTEND;TZID=America/Denver:20261021T123000
DTSTAMP:20260420T000349
CREATED:20250428T194247Z
LAST-MODIFIED:20250711T191233Z
UID:10000270-1792576800-1792585800@rainbowneighbors.org
SUMMARY:Fremont Rainbow Community
DESCRIPTION:In partnership with The City of Fremont\, join Rainbowneighbors.org for our Fremont Rainbow Community\, a social and support group for the senior (55+) LGBTQ+ community and allies in Fremont and the Tri-City area. We will meet twice a month for community\, lectures\, discussion and outings. \nLunch is provided by the City of Fremont \n1st and 3rd Wednesdays\n10:00 a.m. – 12:30 p.m. \n40086 Paseo Padre Pkwy\nFremont\, CA 94538 \n510.790.6600
URL:https://rainbowneighbors.org/event/fremont-rainbow-community-2/2026-10-21/
LOCATION:Age Well Center\, Lake Elizabeth\, 40086 Paseo Padre Pkwy\, Fremont\, CA\, 94538\, United States
END:VEVENT
BEGIN:VEVENT
DTSTART;TZID=America/Denver:20261104T100000
DTEND;TZID=America/Denver:20261104T123000
DTSTAMP:20260420T000349
CREATED:20250428T193520Z
LAST-MODIFIED:20250428T194426Z
UID:10000151-1793786400-1793795400@rainbowneighbors.org
SUMMARY:Fremont Rainbow Community
DESCRIPTION:In partnership with The City of Fremont\, join Rainbowneighbors.org for our Fremont Rainbow Community\, a social and support group for the senior (55+) LGBTQ+ community and allies in Fremont and the Tri-City area. We will meet twice a month for community\, lectures\, discussion and outings. \n1st and 3rd Wednesdays\n10:00 a.m. – 12:30 p.m. \n40086 Paseo Padre Pkwy\nFremont\, CA 94538 \n510.790.6600
URL:https://rainbowneighbors.org/event/fremont-rainbow-community/2026-11-04/
LOCATION:Age Well Center\, Lake Elizabeth\, 40086 Paseo Padre Pkwy\, Fremont\, CA\, 94538\, United States
END:VEVENT
BEGIN:VEVENT
DTSTART;TZID=America/Denver:20261118T100000
DTEND;TZID=America/Denver:20261118T123000
DTSTAMP:20260420T000349
CREATED:20250428T194247Z
LAST-MODIFIED:20250711T191233Z
UID:10000271-1794996000-1795005000@rainbowneighbors.org
SUMMARY:Fremont Rainbow Community
DESCRIPTION:In partnership with The City of Fremont\, join Rainbowneighbors.org for our Fremont Rainbow Community\, a social and support group for the senior (55+) LGBTQ+ community and allies in Fremont and the Tri-City area. We will meet twice a month for community\, lectures\, discussion and outings. \nLunch is provided by the City of Fremont \n1st and 3rd Wednesdays\n10:00 a.m. – 12:30 p.m. \n40086 Paseo Padre Pkwy\nFremont\, CA 94538 \n510.790.6600
URL:https://rainbowneighbors.org/event/fremont-rainbow-community-2/2026-11-18/
LOCATION:Age Well Center\, Lake Elizabeth\, 40086 Paseo Padre Pkwy\, Fremont\, CA\, 94538\, United States
END:VEVENT
BEGIN:VEVENT
DTSTART;TZID=America/Denver:20261202T100000
DTEND;TZID=America/Denver:20261202T123000
DTSTAMP:20260420T000349
CREATED:20250428T193520Z
LAST-MODIFIED:20250428T194426Z
UID:10000152-1796205600-1796214600@rainbowneighbors.org
SUMMARY:Fremont Rainbow Community
DESCRIPTION:In partnership with The City of Fremont\, join Rainbowneighbors.org for our Fremont Rainbow Community\, a social and support group for the senior (55+) LGBTQ+ community and allies in Fremont and the Tri-City area. We will meet twice a month for community\, lectures\, discussion and outings. \n1st and 3rd Wednesdays\n10:00 a.m. – 12:30 p.m. \n40086 Paseo Padre Pkwy\nFremont\, CA 94538 \n510.790.6600
URL:https://rainbowneighbors.org/event/fremont-rainbow-community/2026-12-02/
LOCATION:Age Well Center\, Lake Elizabeth\, 40086 Paseo Padre Pkwy\, Fremont\, CA\, 94538\, United States
END:VEVENT
BEGIN:VEVENT
DTSTART;TZID=America/Denver:20261216T100000
DTEND;TZID=America/Denver:20261216T123000
DTSTAMP:20260420T000349
CREATED:20250428T194247Z
LAST-MODIFIED:20250711T191233Z
UID:10000272-1797415200-1797424200@rainbowneighbors.org
SUMMARY:Fremont Rainbow Community
DESCRIPTION:In partnership with The City of Fremont\, join Rainbowneighbors.org for our Fremont Rainbow Community\, a social and support group for the senior (55+) LGBTQ+ community and allies in Fremont and the Tri-City area. We will meet twice a month for community\, lectures\, discussion and outings. \nLunch is provided by the City of Fremont \n1st and 3rd Wednesdays\n10:00 a.m. – 12:30 p.m. \n40086 Paseo Padre Pkwy\nFremont\, CA 94538 \n510.790.6600
URL:https://rainbowneighbors.org/event/fremont-rainbow-community-2/2026-12-16/
LOCATION:Age Well Center\, Lake Elizabeth\, 40086 Paseo Padre Pkwy\, Fremont\, CA\, 94538\, United States
END:VEVENT
BEGIN:VEVENT
DTSTART;TZID=America/Denver:20270106T100000
DTEND;TZID=America/Denver:20270106T123000
DTSTAMP:20260420T000349
CREATED:20250428T193520Z
LAST-MODIFIED:20250428T194426Z
UID:10000153-1799229600-1799238600@rainbowneighbors.org
SUMMARY:Fremont Rainbow Community
DESCRIPTION:In partnership with The City of Fremont\, join Rainbowneighbors.org for our Fremont Rainbow Community\, a social and support group for the senior (55+) LGBTQ+ community and allies in Fremont and the Tri-City area. We will meet twice a month for community\, lectures\, discussion and outings. \n1st and 3rd Wednesdays\n10:00 a.m. – 12:30 p.m. \n40086 Paseo Padre Pkwy\nFremont\, CA 94538 \n510.790.6600
URL:https://rainbowneighbors.org/event/fremont-rainbow-community/2027-01-06/
LOCATION:Age Well Center\, Lake Elizabeth\, 40086 Paseo Padre Pkwy\, Fremont\, CA\, 94538\, United States
END:VEVENT
BEGIN:VEVENT
DTSTART;TZID=America/Denver:20270120T100000
DTEND;TZID=America/Denver:20270120T123000
DTSTAMP:20260420T000349
CREATED:20250428T194247Z
LAST-MODIFIED:20250711T191233Z
UID:10000273-1800439200-1800448200@rainbowneighbors.org
SUMMARY:Fremont Rainbow Community
DESCRIPTION:In partnership with The City of Fremont\, join Rainbowneighbors.org for our Fremont Rainbow Community\, a social and support group for the senior (55+) LGBTQ+ community and allies in Fremont and the Tri-City area. We will meet twice a month for community\, lectures\, discussion and outings. \nLunch is provided by the City of Fremont \n1st and 3rd Wednesdays\n10:00 a.m. – 12:30 p.m. \n40086 Paseo Padre Pkwy\nFremont\, CA 94538 \n510.790.6600
URL:https://rainbowneighbors.org/event/fremont-rainbow-community-2/2027-01-20/
LOCATION:Age Well Center\, Lake Elizabeth\, 40086 Paseo Padre Pkwy\, Fremont\, CA\, 94538\, United States
END:VEVENT
BEGIN:VEVENT
DTSTART;TZID=America/Denver:20270203T100000
DTEND;TZID=America/Denver:20270203T123000
DTSTAMP:20260420T000349
CREATED:20250428T193520Z
LAST-MODIFIED:20250428T194426Z
UID:10000154-1801648800-1801657800@rainbowneighbors.org
SUMMARY:Fremont Rainbow Community
DESCRIPTION:In partnership with The City of Fremont\, join Rainbowneighbors.org for our Fremont Rainbow Community\, a social and support group for the senior (55+) LGBTQ+ community and allies in Fremont and the Tri-City area. We will meet twice a month for community\, lectures\, discussion and outings. \n1st and 3rd Wednesdays\n10:00 a.m. – 12:30 p.m. \n40086 Paseo Padre Pkwy\nFremont\, CA 94538 \n510.790.6600
URL:https://rainbowneighbors.org/event/fremont-rainbow-community/2027-02-03/
LOCATION:Age Well Center\, Lake Elizabeth\, 40086 Paseo Padre Pkwy\, Fremont\, CA\, 94538\, United States
END:VEVENT
BEGIN:VEVENT
DTSTART;TZID=America/Denver:20270217T100000
DTEND;TZID=America/Denver:20270217T123000
DTSTAMP:20260420T000349
CREATED:20250428T194247Z
LAST-MODIFIED:20250711T191233Z
UID:10000274-1802858400-1802867400@rainbowneighbors.org
SUMMARY:Fremont Rainbow Community
DESCRIPTION:In partnership with The City of Fremont\, join Rainbowneighbors.org for our Fremont Rainbow Community\, a social and support group for the senior (55+) LGBTQ+ community and allies in Fremont and the Tri-City area. We will meet twice a month for community\, lectures\, discussion and outings. \nLunch is provided by the City of Fremont \n1st and 3rd Wednesdays\n10:00 a.m. – 12:30 p.m. \n40086 Paseo Padre Pkwy\nFremont\, CA 94538 \n510.790.6600
URL:https://rainbowneighbors.org/event/fremont-rainbow-community-2/2027-02-17/
LOCATION:Age Well Center\, Lake Elizabeth\, 40086 Paseo Padre Pkwy\, Fremont\, CA\, 94538\, United States
END:VEVENT
BEGIN:VEVENT
DTSTART;TZID=America/Denver:20270303T100000
DTEND;TZID=America/Denver:20270303T123000
DTSTAMP:20260420T000349
CREATED:20250428T193520Z
LAST-MODIFIED:20250428T194426Z
UID:10000155-1804068000-1804077000@rainbowneighbors.org
SUMMARY:Fremont Rainbow Community
DESCRIPTION:In partnership with The City of Fremont\, join Rainbowneighbors.org for our Fremont Rainbow Community\, a social and support group for the senior (55+) LGBTQ+ community and allies in Fremont and the Tri-City area. We will meet twice a month for community\, lectures\, discussion and outings. \n1st and 3rd Wednesdays\n10:00 a.m. – 12:30 p.m. \n40086 Paseo Padre Pkwy\nFremont\, CA 94538 \n510.790.6600
URL:https://rainbowneighbors.org/event/fremont-rainbow-community/2027-03-03/
LOCATION:Age Well Center\, Lake Elizabeth\, 40086 Paseo Padre Pkwy\, Fremont\, CA\, 94538\, United States
END:VEVENT
BEGIN:VEVENT
DTSTART;TZID=America/Denver:20270317T100000
DTEND;TZID=America/Denver:20270317T123000
DTSTAMP:20260420T000349
CREATED:20250428T194247Z
LAST-MODIFIED:20250711T191233Z
UID:10000275-1805277600-1805286600@rainbowneighbors.org
SUMMARY:Fremont Rainbow Community
DESCRIPTION:In partnership with The City of Fremont\, join Rainbowneighbors.org for our Fremont Rainbow Community\, a social and support group for the senior (55+) LGBTQ+ community and allies in Fremont and the Tri-City area. We will meet twice a month for community\, lectures\, discussion and outings. \nLunch is provided by the City of Fremont \n1st and 3rd Wednesdays\n10:00 a.m. – 12:30 p.m. \n40086 Paseo Padre Pkwy\nFremont\, CA 94538 \n510.790.6600
URL:https://rainbowneighbors.org/event/fremont-rainbow-community-2/2027-03-17/
LOCATION:Age Well Center\, Lake Elizabeth\, 40086 Paseo Padre Pkwy\, Fremont\, CA\, 94538\, United States
END:VEVENT
BEGIN:VEVENT
DTSTART;TZID=America/Denver:20270407T100000
DTEND;TZID=America/Denver:20270407T123000
DTSTAMP:20260420T000349
CREATED:20250428T193520Z
LAST-MODIFIED:20250428T194426Z
UID:10000156-1807092000-1807101000@rainbowneighbors.org
SUMMARY:Fremont Rainbow Community
DESCRIPTION:In partnership with The City of Fremont\, join Rainbowneighbors.org for our Fremont Rainbow Community\, a social and support group for the senior (55+) LGBTQ+ community and allies in Fremont and the Tri-City area. We will meet twice a month for community\, lectures\, discussion and outings. \n1st and 3rd Wednesdays\n10:00 a.m. – 12:30 p.m. \n40086 Paseo Padre Pkwy\nFremont\, CA 94538 \n510.790.6600
URL:https://rainbowneighbors.org/event/fremont-rainbow-community/2027-04-07/
LOCATION:Age Well Center\, Lake Elizabeth\, 40086 Paseo Padre Pkwy\, Fremont\, CA\, 94538\, United States
END:VEVENT
BEGIN:VEVENT
DTSTART;TZID=America/Denver:20270421T100000
DTEND;TZID=America/Denver:20270421T123000
DTSTAMP:20260420T000349
CREATED:20250428T194247Z
LAST-MODIFIED:20250711T191233Z
UID:10000276-1808301600-1808310600@rainbowneighbors.org
SUMMARY:Fremont Rainbow Community
DESCRIPTION:In partnership with The City of Fremont\, join Rainbowneighbors.org for our Fremont Rainbow Community\, a social and support group for the senior (55+) LGBTQ+ community and allies in Fremont and the Tri-City area. We will meet twice a month for community\, lectures\, discussion and outings. \nLunch is provided by the City of Fremont \n1st and 3rd Wednesdays\n10:00 a.m. – 12:30 p.m. \n40086 Paseo Padre Pkwy\nFremont\, CA 94538 \n510.790.6600
URL:https://rainbowneighbors.org/event/fremont-rainbow-community-2/2027-04-21/
LOCATION:Age Well Center\, Lake Elizabeth\, 40086 Paseo Padre Pkwy\, Fremont\, CA\, 94538\, United States
END:VEVENT
BEGIN:VEVENT
DTSTART;TZID=America/Denver:20270505T100000
DTEND;TZID=America/Denver:20270505T123000
DTSTAMP:20260420T000349
CREATED:20250428T193520Z
LAST-MODIFIED:20250428T194426Z
UID:10000157-1809511200-1809520200@rainbowneighbors.org
SUMMARY:Fremont Rainbow Community
DESCRIPTION:In partnership with The City of Fremont\, join Rainbowneighbors.org for our Fremont Rainbow Community\, a social and support group for the senior (55+) LGBTQ+ community and allies in Fremont and the Tri-City area. We will meet twice a month for community\, lectures\, discussion and outings. \n1st and 3rd Wednesdays\n10:00 a.m. – 12:30 p.m. \n40086 Paseo Padre Pkwy\nFremont\, CA 94538 \n510.790.6600
URL:https://rainbowneighbors.org/event/fremont-rainbow-community/2027-05-05/
LOCATION:Age Well Center\, Lake Elizabeth\, 40086 Paseo Padre Pkwy\, Fremont\, CA\, 94538\, United States
END:VEVENT
BEGIN:VEVENT
DTSTART;TZID=America/Denver:20270519T100000
DTEND;TZID=America/Denver:20270519T123000
DTSTAMP:20260420T000349
CREATED:20250428T194247Z
LAST-MODIFIED:20250711T191233Z
UID:10000277-1810720800-1810729800@rainbowneighbors.org
SUMMARY:Fremont Rainbow Community
DESCRIPTION:In partnership with The City of Fremont\, join Rainbowneighbors.org for our Fremont Rainbow Community\, a social and support group for the senior (55+) LGBTQ+ community and allies in Fremont and the Tri-City area. We will meet twice a month for community\, lectures\, discussion and outings. \nLunch is provided by the City of Fremont \n1st and 3rd Wednesdays\n10:00 a.m. – 12:30 p.m. \n40086 Paseo Padre Pkwy\nFremont\, CA 94538 \n510.790.6600
URL:https://rainbowneighbors.org/event/fremont-rainbow-community-2/2027-05-19/
LOCATION:Age Well Center\, Lake Elizabeth\, 40086 Paseo Padre Pkwy\, Fremont\, CA\, 94538\, United States
END:VEVENT
BEGIN:VEVENT
DTSTART;TZID=America/Denver:20270602T100000
DTEND;TZID=America/Denver:20270602T123000
DTSTAMP:20260420T000349
CREATED:20250428T193520Z
LAST-MODIFIED:20250428T194426Z
UID:10000158-1811930400-1811939400@rainbowneighbors.org
SUMMARY:Fremont Rainbow Community
DESCRIPTION:In partnership with The City of Fremont\, join Rainbowneighbors.org for our Fremont Rainbow Community\, a social and support group for the senior (55+) LGBTQ+ community and allies in Fremont and the Tri-City area. We will meet twice a month for community\, lectures\, discussion and outings. \n1st and 3rd Wednesdays\n10:00 a.m. – 12:30 p.m. \n40086 Paseo Padre Pkwy\nFremont\, CA 94538 \n510.790.6600
URL:https://rainbowneighbors.org/event/fremont-rainbow-community/2027-06-02/
LOCATION:Age Well Center\, Lake Elizabeth\, 40086 Paseo Padre Pkwy\, Fremont\, CA\, 94538\, United States
END:VEVENT
BEGIN:VEVENT
DTSTART;TZID=America/Denver:20270616T100000
DTEND;TZID=America/Denver:20270616T123000
DTSTAMP:20260420T000349
CREATED:20250428T194247Z
LAST-MODIFIED:20250711T191233Z
UID:10000278-1813140000-1813149000@rainbowneighbors.org
SUMMARY:Fremont Rainbow Community
DESCRIPTION:In partnership with The City of Fremont\, join Rainbowneighbors.org for our Fremont Rainbow Community\, a social and support group for the senior (55+) LGBTQ+ community and allies in Fremont and the Tri-City area. We will meet twice a month for community\, lectures\, discussion and outings. \nLunch is provided by the City of Fremont \n1st and 3rd Wednesdays\n10:00 a.m. – 12:30 p.m. \n40086 Paseo Padre Pkwy\nFremont\, CA 94538 \n510.790.6600
URL:https://rainbowneighbors.org/event/fremont-rainbow-community-2/2027-06-16/
LOCATION:Age Well Center\, Lake Elizabeth\, 40086 Paseo Padre Pkwy\, Fremont\, CA\, 94538\, United States
END:VEVENT
BEGIN:VEVENT
DTSTART;TZID=America/Denver:20270707T100000
DTEND;TZID=America/Denver:20270707T123000
DTSTAMP:20260420T000349
CREATED:20250428T193520Z
LAST-MODIFIED:20250428T194426Z
UID:10000159-1814954400-1814963400@rainbowneighbors.org
SUMMARY:Fremont Rainbow Community
DESCRIPTION:In partnership with The City of Fremont\, join Rainbowneighbors.org for our Fremont Rainbow Community\, a social and support group for the senior (55+) LGBTQ+ community and allies in Fremont and the Tri-City area. We will meet twice a month for community\, lectures\, discussion and outings. \n1st and 3rd Wednesdays\n10:00 a.m. – 12:30 p.m. \n40086 Paseo Padre Pkwy\nFremont\, CA 94538 \n510.790.6600
URL:https://rainbowneighbors.org/event/fremont-rainbow-community/2027-07-07/
LOCATION:Age Well Center\, Lake Elizabeth\, 40086 Paseo Padre Pkwy\, Fremont\, CA\, 94538\, United States
END:VEVENT
BEGIN:VEVENT
DTSTART;TZID=America/Denver:20270721T100000
DTEND;TZID=America/Denver:20270721T123000
DTSTAMP:20260420T000349
CREATED:20250428T194247Z
LAST-MODIFIED:20250711T191233Z
UID:10000279-1816164000-1816173000@rainbowneighbors.org
SUMMARY:Fremont Rainbow Community
DESCRIPTION:In partnership with The City of Fremont\, join Rainbowneighbors.org for our Fremont Rainbow Community\, a social and support group for the senior (55+) LGBTQ+ community and allies in Fremont and the Tri-City area. We will meet twice a month for community\, lectures\, discussion and outings. \nLunch is provided by the City of Fremont \n1st and 3rd Wednesdays\n10:00 a.m. – 12:30 p.m. \n40086 Paseo Padre Pkwy\nFremont\, CA 94538 \n510.790.6600
URL:https://rainbowneighbors.org/event/fremont-rainbow-community-2/2027-07-21/
LOCATION:Age Well Center\, Lake Elizabeth\, 40086 Paseo Padre Pkwy\, Fremont\, CA\, 94538\, United States
END:VEVENT
END:VCALENDAR