BEGIN:VCALENDAR
VERSION:2.0
PRODID:-//Rainbowneighbors.org - ECPv6.15.20//NONSGML v1.0//EN
CALSCALE:GREGORIAN
METHOD:PUBLISH
X-WR-CALNAME:Rainbowneighbors.org
X-ORIGINAL-URL:https://rainbowneighbors.org
X-WR-CALDESC:Events for Rainbowneighbors.org
REFRESH-INTERVAL;VALUE=DURATION:PT1H
X-Robots-Tag:noindex
X-PUBLISHED-TTL:PT1H
BEGIN:VTIMEZONE
TZID:America/Denver
BEGIN:DAYLIGHT
TZOFFSETFROM:-0700
TZOFFSETTO:-0600
TZNAME:MDT
DTSTART:20240310T090000
END:DAYLIGHT
BEGIN:STANDARD
TZOFFSETFROM:-0600
TZOFFSETTO:-0700
TZNAME:MST
DTSTART:20241103T080000
END:STANDARD
BEGIN:DAYLIGHT
TZOFFSETFROM:-0700
TZOFFSETTO:-0600
TZNAME:MDT
DTSTART:20250309T090000
END:DAYLIGHT
BEGIN:STANDARD
TZOFFSETFROM:-0600
TZOFFSETTO:-0700
TZNAME:MST
DTSTART:20251102T080000
END:STANDARD
BEGIN:DAYLIGHT
TZOFFSETFROM:-0700
TZOFFSETTO:-0600
TZNAME:MDT
DTSTART:20260308T090000
END:DAYLIGHT
BEGIN:STANDARD
TZOFFSETFROM:-0600
TZOFFSETTO:-0700
TZNAME:MST
DTSTART:20261101T080000
END:STANDARD
END:VTIMEZONE
BEGIN:VEVENT
DTSTART;TZID=America/Denver:20250501T110000
DTEND;TZID=America/Denver:20250501T123000
DTSTAMP:20260420T222145
CREATED:20250203T015516Z
LAST-MODIFIED:20250203T015516Z
UID:10000014-1746097200-1746102600@rainbowneighbors.org
SUMMARY:Pozitive Living Group
DESCRIPTION:Men’s Survival Group \nThis is a social and support group for men living with HIV. This is at the Billy DeFrank Community Center in San Jose. Please enter at the back of the building. \n 
URL:https://rainbowneighbors.org/event/pozitive-living-group/2025-05-01/
LOCATION:Billy DeFrank Community Center\, 938 The Alameda\, San Jose\, CA\, 95126\, United States
END:VEVENT
BEGIN:VEVENT
DTSTART;TZID=America/Denver:20250507T100000
DTEND;TZID=America/Denver:20250507T123000
DTSTAMP:20260420T222145
CREATED:20250428T193520Z
LAST-MODIFIED:20250428T194426Z
UID:10000133-1746612000-1746621000@rainbowneighbors.org
SUMMARY:Fremont Rainbow Community
DESCRIPTION:In partnership with The City of Fremont\, join Rainbowneighbors.org for our Fremont Rainbow Community\, a social and support group for the senior (55+) LGBTQ+ community and allies in Fremont and the Tri-City area. We will meet twice a month for community\, lectures\, discussion and outings. \n1st and 3rd Wednesdays\n10:00 a.m. – 12:30 p.m. \n40086 Paseo Padre Pkwy\nFremont\, CA 94538 \n510.790.6600
URL:https://rainbowneighbors.org/event/fremont-rainbow-community/2025-05-07/
LOCATION:Age Well Center\, Lake Elizabeth\, 40086 Paseo Padre Pkwy\, Fremont\, CA\, 94538\, United States
END:VEVENT
BEGIN:VEVENT
DTSTART;TZID=America/Denver:20250521T100000
DTEND;TZID=America/Denver:20250521T123000
DTSTAMP:20260420T222145
CREATED:20250428T194247Z
LAST-MODIFIED:20250711T191233Z
UID:10000253-1747821600-1747830600@rainbowneighbors.org
SUMMARY:Fremont Rainbow Community
DESCRIPTION:In partnership with The City of Fremont\, join Rainbowneighbors.org for our Fremont Rainbow Community\, a social and support group for the senior (55+) LGBTQ+ community and allies in Fremont and the Tri-City area. We will meet twice a month for community\, lectures\, discussion and outings. \nLunch is provided by the City of Fremont \n1st and 3rd Wednesdays\n10:00 a.m. – 12:30 p.m. \n40086 Paseo Padre Pkwy\nFremont\, CA 94538 \n510.790.6600
URL:https://rainbowneighbors.org/event/fremont-rainbow-community-2/2025-05-21/
LOCATION:Age Well Center\, Lake Elizabeth\, 40086 Paseo Padre Pkwy\, Fremont\, CA\, 94538\, United States
END:VEVENT
BEGIN:VEVENT
DTSTART;TZID=America/Denver:20250524T100000
DTEND;TZID=America/Denver:20250524T120000
DTSTAMP:20260420T222145
CREATED:20250203T021032Z
LAST-MODIFIED:20250203T021032Z
UID:10000074-1748080800-1748088000@rainbowneighbors.org
SUMMARY:Vintage Coffee Group
DESCRIPTION:Join us in friendship and community at Crema Coffee. Grab a drink and enjoy good people at a pleasant venue. \n 
URL:https://rainbowneighbors.org/event/vintage-coffee-group/2025-05-24/
LOCATION:Crema Coffee Roasting Co\, 238 Race Street\, San Jose\, CA\, 95126\, United States
END:VEVENT
BEGIN:VEVENT
DTSTART;TZID=America/Denver:20250531T120000
DTEND;TZID=America/Denver:20250531T150000
DTSTAMP:20260420T222145
CREATED:20250523T004307Z
LAST-MODIFIED:20250523T004546Z
UID:10000313-1748692800-1748703600@rainbowneighbors.org
SUMMARY:San Jose Municipal Rose Garden
DESCRIPTION:Join Avenidas Rainbow Adventures and Rainbowneighbors.org for our first visit to the Municipal Rose Garden in San Jose. \nSaturday\, May 31 | Noon to 3 pm \nNaglee Ave & Dana Ave\, San JoseJoin Avenidas Rainbow Collective and Rainbow Neighbors for\nour first picknick of the year. This month we will be visiting the Municipal Rose Garden in San Jose\nFruit\, snacks\, drinks\, and small bites will be provided. Please bring something to share!\nScan QR Code on Flyer below to Register \nBeige Retro Flower Market Poster (Instagram Post (45)) (1).PNG \n  \nThe Garden was championed by early members of the Santa Clara County Rose Society\, and on November 20\, 1927\, the San José City Council voted to set aside 5.5 acres of an 11–acre tract of land at Naglee and Dana Avenues just outside of downtown San José and the Rose Society pledged to provide roses for the Garden. Groundbreaking took place April 7\, 1931\, and six years later\, on April 7\, 1937\, the Rose Garden was officially dedicated. Many of the Garden’s original features include the reflection pool in the center of the structural entrance\, garden vases\, the two-tiered water fountain\, miniature rose beds\, and arbor have been donated through the years by the community and the Rose Society. \nThis event is free and open to everyone!
URL:https://rainbowneighbors.org/event/san-jose-municipal-rose-garden/
LOCATION:San Jose Municipal Rose Garden\, 1649 Naglee Ave\, San Jose\, CA\, 95126\, United States
END:VEVENT
END:VCALENDAR