BEGIN:VCALENDAR
VERSION:2.0
PRODID:-//Rainbowneighbors.org - ECPv6.15.20//NONSGML v1.0//EN
CALSCALE:GREGORIAN
METHOD:PUBLISH
X-ORIGINAL-URL:https://rainbowneighbors.org
X-WR-CALDESC:Events for Rainbowneighbors.org
REFRESH-INTERVAL;VALUE=DURATION:PT1H
X-Robots-Tag:noindex
X-PUBLISHED-TTL:PT1H
BEGIN:VTIMEZONE
TZID:America/Denver
BEGIN:DAYLIGHT
TZOFFSETFROM:-0700
TZOFFSETTO:-0600
TZNAME:MDT
DTSTART:20230312T090000
END:DAYLIGHT
BEGIN:STANDARD
TZOFFSETFROM:-0600
TZOFFSETTO:-0700
TZNAME:MST
DTSTART:20231105T080000
END:STANDARD
BEGIN:DAYLIGHT
TZOFFSETFROM:-0700
TZOFFSETTO:-0600
TZNAME:MDT
DTSTART:20240310T090000
END:DAYLIGHT
BEGIN:STANDARD
TZOFFSETFROM:-0600
TZOFFSETTO:-0700
TZNAME:MST
DTSTART:20241103T080000
END:STANDARD
BEGIN:DAYLIGHT
TZOFFSETFROM:-0700
TZOFFSETTO:-0600
TZNAME:MDT
DTSTART:20250309T090000
END:DAYLIGHT
BEGIN:STANDARD
TZOFFSETFROM:-0600
TZOFFSETTO:-0700
TZNAME:MST
DTSTART:20251102T080000
END:STANDARD
END:VTIMEZONE
BEGIN:VEVENT
DTSTART;TZID=America/Denver:20241012T110000
DTEND;TZID=America/Denver:20241012T140000
DTSTAMP:20260421T080124
CREATED:20240930T232940Z
LAST-MODIFIED:20240930T233216Z
UID:10000007-1728730800-1728741600@rainbowneighbors.org
SUMMARY:Avenidas Walking Group - Ardenwood
DESCRIPTION:Please join Avenidas Rainbow Collective and Rainbowneighbors for a excursion to the Fall Festival at Ardenwood Farm in Fremont\, CA. There is a $12 ($10 senior) entry fee. Purchase tickets in advance to avoid waiting in a sometimes long line: \nhttps://anc.apm.activecommunities.com/ebparks/activity/search/detail/53040?onlineSiteId=0&from_original_cui=true
URL:https://rainbowneighbors.org/event/avenidas-walking-group-ardenwood/
LOCATION:Ardenwood Historic Farm\, 34600 Ardenwood Blvd\, Fremont\, CA\, 95555\, United States
END:VEVENT
BEGIN:VEVENT
DTSTART;TZID=America/Denver:20241018T100000
DTEND;TZID=America/Denver:20241018T120000
DTSTAMP:20260421T080124
CREATED:20241001T183411Z
LAST-MODIFIED:20241001T183411Z
UID:10000009-1729245600-1729252800@rainbowneighbors.org
SUMMARY:Rainbow Community Coffee
DESCRIPTION:Join us for our monthly Rainbow Community Coffee Group where you can meet new friends and socialize with our Rainbow Collective community. We’ll have coffee\, tea\, donuts\, and pastries. We hope to see you there. \nRegistration required \n  \n!
URL:https://rainbowneighbors.org/event/rainbow-community-coffee/
LOCATION:Avenidas Lounge\, 450 Bryant St\, Palo Alto\, CA\, 94301\, United States
END:VEVENT
BEGIN:VEVENT
DTSTART;TZID=America/Denver:20241026T100000
DTEND;TZID=America/Denver:20241026T120000
DTSTAMP:20260421T080124
CREATED:20240930T235451Z
LAST-MODIFIED:20240930T235451Z
UID:10000008-1729936800-1729944000@rainbowneighbors.org
SUMMARY:Coffee At Crema Coffee Roasting Co. Race Street\, San Jose
DESCRIPTION:Come join us at Crema Coffee Roasting Company at 238 Race Street in San Jose\, CA. \n 
URL:https://rainbowneighbors.org/event/coffee-at-crema-coffee-roasting-co-race-street-san-jose/
LOCATION:Crema Coffee Roasting Co\, 238 Race Street\, San Jose\, CA\, 95126\, United States
END:VEVENT
END:VCALENDAR