BEGIN:VCALENDAR
VERSION:2.0
PRODID:-//Rainbowneighbors.org - ECPv6.15.20//NONSGML v1.0//EN
CALSCALE:GREGORIAN
METHOD:PUBLISH
X-ORIGINAL-URL:https://rainbowneighbors.org
X-WR-CALDESC:Events for Rainbowneighbors.org
REFRESH-INTERVAL;VALUE=DURATION:PT1H
X-Robots-Tag:noindex
X-PUBLISHED-TTL:PT1H
BEGIN:VTIMEZONE
TZID:America/Denver
BEGIN:DAYLIGHT
TZOFFSETFROM:-0700
TZOFFSETTO:-0600
TZNAME:MDT
DTSTART:20250309T090000
END:DAYLIGHT
BEGIN:STANDARD
TZOFFSETFROM:-0600
TZOFFSETTO:-0700
TZNAME:MST
DTSTART:20251102T080000
END:STANDARD
BEGIN:DAYLIGHT
TZOFFSETFROM:-0700
TZOFFSETTO:-0600
TZNAME:MDT
DTSTART:20260308T090000
END:DAYLIGHT
BEGIN:STANDARD
TZOFFSETFROM:-0600
TZOFFSETTO:-0700
TZNAME:MST
DTSTART:20261101T080000
END:STANDARD
BEGIN:DAYLIGHT
TZOFFSETFROM:-0700
TZOFFSETTO:-0600
TZNAME:MDT
DTSTART:20270314T090000
END:DAYLIGHT
BEGIN:STANDARD
TZOFFSETFROM:-0600
TZOFFSETTO:-0700
TZNAME:MST
DTSTART:20271107T080000
END:STANDARD
END:VTIMEZONE
BEGIN:VEVENT
DTSTART;TZID=America/Denver:20260124T100000
DTEND;TZID=America/Denver:20260124T120000
DTSTAMP:20260420T082209
CREATED:20250203T021032Z
LAST-MODIFIED:20250203T021032Z
UID:10000082-1769248800-1769256000@rainbowneighbors.org
SUMMARY:Vintage Coffee Group
DESCRIPTION:Join us in friendship and community at Crema Coffee. Grab a drink and enjoy good people at a pleasant venue. \n 
URL:https://rainbowneighbors.org/event/vintage-coffee-group/2026-01-24/
LOCATION:Crema Coffee Roasting Co\, 238 Race Street\, San Jose\, CA\, 95126\, United States
END:VEVENT
BEGIN:VEVENT
DTSTART;TZID=America/Denver:20260204T100000
DTEND;TZID=America/Denver:20260204T123000
DTSTAMP:20260420T082209
CREATED:20250428T193520Z
LAST-MODIFIED:20250428T194426Z
UID:10000142-1770199200-1770208200@rainbowneighbors.org
SUMMARY:Fremont Rainbow Community
DESCRIPTION:In partnership with The City of Fremont\, join Rainbowneighbors.org for our Fremont Rainbow Community\, a social and support group for the senior (55+) LGBTQ+ community and allies in Fremont and the Tri-City area. We will meet twice a month for community\, lectures\, discussion and outings. \n1st and 3rd Wednesdays\n10:00 a.m. – 12:30 p.m. \n40086 Paseo Padre Pkwy\nFremont\, CA 94538 \n510.790.6600
URL:https://rainbowneighbors.org/event/fremont-rainbow-community/2026-02-04/
LOCATION:Age Well Center\, Lake Elizabeth\, 40086 Paseo Padre Pkwy\, Fremont\, CA\, 94538\, United States
END:VEVENT
BEGIN:VEVENT
DTSTART;TZID=America/Denver:20260218T100000
DTEND;TZID=America/Denver:20260218T123000
DTSTAMP:20260420T082209
CREATED:20250428T194247Z
LAST-MODIFIED:20250711T191233Z
UID:10000262-1771408800-1771417800@rainbowneighbors.org
SUMMARY:Fremont Rainbow Community
DESCRIPTION:In partnership with The City of Fremont\, join Rainbowneighbors.org for our Fremont Rainbow Community\, a social and support group for the senior (55+) LGBTQ+ community and allies in Fremont and the Tri-City area. We will meet twice a month for community\, lectures\, discussion and outings. \nLunch is provided by the City of Fremont \n1st and 3rd Wednesdays\n10:00 a.m. – 12:30 p.m. \n40086 Paseo Padre Pkwy\nFremont\, CA 94538 \n510.790.6600
URL:https://rainbowneighbors.org/event/fremont-rainbow-community-2/2026-02-18/
LOCATION:Age Well Center\, Lake Elizabeth\, 40086 Paseo Padre Pkwy\, Fremont\, CA\, 94538\, United States
END:VEVENT
BEGIN:VEVENT
DTSTART;TZID=America/Denver:20260228T100000
DTEND;TZID=America/Denver:20260228T120000
DTSTAMP:20260420T082209
CREATED:20250203T021032Z
LAST-MODIFIED:20250203T021032Z
UID:10000083-1772272800-1772280000@rainbowneighbors.org
SUMMARY:Vintage Coffee Group
DESCRIPTION:Join us in friendship and community at Crema Coffee. Grab a drink and enjoy good people at a pleasant venue. \n 
URL:https://rainbowneighbors.org/event/vintage-coffee-group/2026-02-28/
LOCATION:Crema Coffee Roasting Co\, 238 Race Street\, San Jose\, CA\, 95126\, United States
END:VEVENT
BEGIN:VEVENT
DTSTART;TZID=America/Denver:20260304T100000
DTEND;TZID=America/Denver:20260304T123000
DTSTAMP:20260420T082209
CREATED:20250428T193520Z
LAST-MODIFIED:20250428T194426Z
UID:10000143-1772618400-1772627400@rainbowneighbors.org
SUMMARY:Fremont Rainbow Community
DESCRIPTION:In partnership with The City of Fremont\, join Rainbowneighbors.org for our Fremont Rainbow Community\, a social and support group for the senior (55+) LGBTQ+ community and allies in Fremont and the Tri-City area. We will meet twice a month for community\, lectures\, discussion and outings. \n1st and 3rd Wednesdays\n10:00 a.m. – 12:30 p.m. \n40086 Paseo Padre Pkwy\nFremont\, CA 94538 \n510.790.6600
URL:https://rainbowneighbors.org/event/fremont-rainbow-community/2026-03-04/
LOCATION:Age Well Center\, Lake Elizabeth\, 40086 Paseo Padre Pkwy\, Fremont\, CA\, 94538\, United States
END:VEVENT
BEGIN:VEVENT
DTSTART;TZID=America/Denver:20260318T100000
DTEND;TZID=America/Denver:20260318T123000
DTSTAMP:20260420T082209
CREATED:20250428T194247Z
LAST-MODIFIED:20250711T191233Z
UID:10000263-1773828000-1773837000@rainbowneighbors.org
SUMMARY:Fremont Rainbow Community
DESCRIPTION:In partnership with The City of Fremont\, join Rainbowneighbors.org for our Fremont Rainbow Community\, a social and support group for the senior (55+) LGBTQ+ community and allies in Fremont and the Tri-City area. We will meet twice a month for community\, lectures\, discussion and outings. \nLunch is provided by the City of Fremont \n1st and 3rd Wednesdays\n10:00 a.m. – 12:30 p.m. \n40086 Paseo Padre Pkwy\nFremont\, CA 94538 \n510.790.6600
URL:https://rainbowneighbors.org/event/fremont-rainbow-community-2/2026-03-18/
LOCATION:Age Well Center\, Lake Elizabeth\, 40086 Paseo Padre Pkwy\, Fremont\, CA\, 94538\, United States
END:VEVENT
BEGIN:VEVENT
DTSTART;TZID=America/Denver:20260328T100000
DTEND;TZID=America/Denver:20260328T120000
DTSTAMP:20260420T082209
CREATED:20250203T021032Z
LAST-MODIFIED:20250203T021032Z
UID:10000084-1774692000-1774699200@rainbowneighbors.org
SUMMARY:Vintage Coffee Group
DESCRIPTION:Join us in friendship and community at Crema Coffee. Grab a drink and enjoy good people at a pleasant venue. \n 
URL:https://rainbowneighbors.org/event/vintage-coffee-group/2026-03-28/
LOCATION:Crema Coffee Roasting Co\, 238 Race Street\, San Jose\, CA\, 95126\, United States
END:VEVENT
BEGIN:VEVENT
DTSTART;TZID=America/Denver:20260401T100000
DTEND;TZID=America/Denver:20260401T123000
DTSTAMP:20260420T082209
CREATED:20250428T193520Z
LAST-MODIFIED:20250428T194426Z
UID:10000144-1775037600-1775046600@rainbowneighbors.org
SUMMARY:Fremont Rainbow Community
DESCRIPTION:In partnership with The City of Fremont\, join Rainbowneighbors.org for our Fremont Rainbow Community\, a social and support group for the senior (55+) LGBTQ+ community and allies in Fremont and the Tri-City area. We will meet twice a month for community\, lectures\, discussion and outings. \n1st and 3rd Wednesdays\n10:00 a.m. – 12:30 p.m. \n40086 Paseo Padre Pkwy\nFremont\, CA 94538 \n510.790.6600
URL:https://rainbowneighbors.org/event/fremont-rainbow-community/2026-04-01/
LOCATION:Age Well Center\, Lake Elizabeth\, 40086 Paseo Padre Pkwy\, Fremont\, CA\, 94538\, United States
END:VEVENT
BEGIN:VEVENT
DTSTART;TZID=America/Denver:20260415T100000
DTEND;TZID=America/Denver:20260415T123000
DTSTAMP:20260420T082209
CREATED:20250428T194247Z
LAST-MODIFIED:20250711T191233Z
UID:10000264-1776247200-1776256200@rainbowneighbors.org
SUMMARY:Fremont Rainbow Community
DESCRIPTION:In partnership with The City of Fremont\, join Rainbowneighbors.org for our Fremont Rainbow Community\, a social and support group for the senior (55+) LGBTQ+ community and allies in Fremont and the Tri-City area. We will meet twice a month for community\, lectures\, discussion and outings. \nLunch is provided by the City of Fremont \n1st and 3rd Wednesdays\n10:00 a.m. – 12:30 p.m. \n40086 Paseo Padre Pkwy\nFremont\, CA 94538 \n510.790.6600
URL:https://rainbowneighbors.org/event/fremont-rainbow-community-2/2026-04-15/
LOCATION:Age Well Center\, Lake Elizabeth\, 40086 Paseo Padre Pkwy\, Fremont\, CA\, 94538\, United States
END:VEVENT
END:VCALENDAR