BEGIN:VCALENDAR
VERSION:2.0
PRODID:-//Rainbowneighbors.org - ECPv6.15.20//NONSGML v1.0//EN
CALSCALE:GREGORIAN
METHOD:PUBLISH
X-WR-CALNAME:Rainbowneighbors.org
X-ORIGINAL-URL:https://rainbowneighbors.org
X-WR-CALDESC:Events for Rainbowneighbors.org
REFRESH-INTERVAL;VALUE=DURATION:PT1H
X-Robots-Tag:noindex
X-PUBLISHED-TTL:PT1H
BEGIN:VTIMEZONE
TZID:America/Denver
BEGIN:DAYLIGHT
TZOFFSETFROM:-0700
TZOFFSETTO:-0600
TZNAME:MDT
DTSTART:20240310T090000
END:DAYLIGHT
BEGIN:STANDARD
TZOFFSETFROM:-0600
TZOFFSETTO:-0700
TZNAME:MST
DTSTART:20241103T080000
END:STANDARD
BEGIN:DAYLIGHT
TZOFFSETFROM:-0700
TZOFFSETTO:-0600
TZNAME:MDT
DTSTART:20250309T090000
END:DAYLIGHT
BEGIN:STANDARD
TZOFFSETFROM:-0600
TZOFFSETTO:-0700
TZNAME:MST
DTSTART:20251102T080000
END:STANDARD
BEGIN:DAYLIGHT
TZOFFSETFROM:-0700
TZOFFSETTO:-0600
TZNAME:MDT
DTSTART:20260308T090000
END:DAYLIGHT
BEGIN:STANDARD
TZOFFSETFROM:-0600
TZOFFSETTO:-0700
TZNAME:MST
DTSTART:20261101T080000
END:STANDARD
BEGIN:DAYLIGHT
TZOFFSETFROM:-0700
TZOFFSETTO:-0600
TZNAME:MDT
DTSTART:20270314T090000
END:DAYLIGHT
BEGIN:STANDARD
TZOFFSETFROM:-0600
TZOFFSETTO:-0700
TZNAME:MST
DTSTART:20271107T080000
END:STANDARD
END:VTIMEZONE
BEGIN:VEVENT
DTSTART;TZID=America/Denver:20260124T100000
DTEND;TZID=America/Denver:20260124T120000
DTSTAMP:20260420T162507
CREATED:20250203T021032Z
LAST-MODIFIED:20250203T021032Z
UID:10000082-1769248800-1769256000@rainbowneighbors.org
SUMMARY:Vintage Coffee Group
DESCRIPTION:Join us in friendship and community at Crema Coffee. Grab a drink and enjoy good people at a pleasant venue. \n 
URL:https://rainbowneighbors.org/event/vintage-coffee-group/2026-01-24/
LOCATION:Crema Coffee Roasting Co\, 238 Race Street\, San Jose\, CA\, 95126\, United States
END:VEVENT
BEGIN:VEVENT
DTSTART;TZID=America/Denver:20260121T100000
DTEND;TZID=America/Denver:20260121T123000
DTSTAMP:20260420T162507
CREATED:20250428T194247Z
LAST-MODIFIED:20250711T191233Z
UID:10000261-1768989600-1768998600@rainbowneighbors.org
SUMMARY:Fremont Rainbow Community
DESCRIPTION:In partnership with The City of Fremont\, join Rainbowneighbors.org for our Fremont Rainbow Community\, a social and support group for the senior (55+) LGBTQ+ community and allies in Fremont and the Tri-City area. We will meet twice a month for community\, lectures\, discussion and outings. \nLunch is provided by the City of Fremont \n1st and 3rd Wednesdays\n10:00 a.m. – 12:30 p.m. \n40086 Paseo Padre Pkwy\nFremont\, CA 94538 \n510.790.6600
URL:https://rainbowneighbors.org/event/fremont-rainbow-community-2/2026-01-21/
LOCATION:Age Well Center\, Lake Elizabeth\, 40086 Paseo Padre Pkwy\, Fremont\, CA\, 94538\, United States
END:VEVENT
BEGIN:VEVENT
DTSTART;TZID=America/Denver:20260107T100000
DTEND;TZID=America/Denver:20260107T123000
DTSTAMP:20260420T162507
CREATED:20250428T193520Z
LAST-MODIFIED:20250428T194426Z
UID:10000141-1767780000-1767789000@rainbowneighbors.org
SUMMARY:Fremont Rainbow Community
DESCRIPTION:In partnership with The City of Fremont\, join Rainbowneighbors.org for our Fremont Rainbow Community\, a social and support group for the senior (55+) LGBTQ+ community and allies in Fremont and the Tri-City area. We will meet twice a month for community\, lectures\, discussion and outings. \n1st and 3rd Wednesdays\n10:00 a.m. – 12:30 p.m. \n40086 Paseo Padre Pkwy\nFremont\, CA 94538 \n510.790.6600
URL:https://rainbowneighbors.org/event/fremont-rainbow-community/2026-01-07/
LOCATION:Age Well Center\, Lake Elizabeth\, 40086 Paseo Padre Pkwy\, Fremont\, CA\, 94538\, United States
END:VEVENT
BEGIN:VEVENT
DTSTART;TZID=America/Denver:20251227T100000
DTEND;TZID=America/Denver:20251227T120000
DTSTAMP:20260420T162507
CREATED:20250203T021032Z
LAST-MODIFIED:20250203T021032Z
UID:10000081-1766829600-1766836800@rainbowneighbors.org
SUMMARY:Vintage Coffee Group
DESCRIPTION:Join us in friendship and community at Crema Coffee. Grab a drink and enjoy good people at a pleasant venue. \n 
URL:https://rainbowneighbors.org/event/vintage-coffee-group/2025-12-27/
LOCATION:Crema Coffee Roasting Co\, 238 Race Street\, San Jose\, CA\, 95126\, United States
END:VEVENT
BEGIN:VEVENT
DTSTART;TZID=America/Denver:20251217T100000
DTEND;TZID=America/Denver:20251217T123000
DTSTAMP:20260420T162507
CREATED:20250428T194247Z
LAST-MODIFIED:20250711T191233Z
UID:10000260-1765965600-1765974600@rainbowneighbors.org
SUMMARY:Fremont Rainbow Community
DESCRIPTION:In partnership with The City of Fremont\, join Rainbowneighbors.org for our Fremont Rainbow Community\, a social and support group for the senior (55+) LGBTQ+ community and allies in Fremont and the Tri-City area. We will meet twice a month for community\, lectures\, discussion and outings. \nLunch is provided by the City of Fremont \n1st and 3rd Wednesdays\n10:00 a.m. – 12:30 p.m. \n40086 Paseo Padre Pkwy\nFremont\, CA 94538 \n510.790.6600
URL:https://rainbowneighbors.org/event/fremont-rainbow-community-2/2025-12-17/
LOCATION:Age Well Center\, Lake Elizabeth\, 40086 Paseo Padre Pkwy\, Fremont\, CA\, 94538\, United States
END:VEVENT
BEGIN:VEVENT
DTSTART;TZID=America/Denver:20251203T100000
DTEND;TZID=America/Denver:20251203T123000
DTSTAMP:20260420T162507
CREATED:20250428T193520Z
LAST-MODIFIED:20250428T194426Z
UID:10000140-1764756000-1764765000@rainbowneighbors.org
SUMMARY:Fremont Rainbow Community
DESCRIPTION:In partnership with The City of Fremont\, join Rainbowneighbors.org for our Fremont Rainbow Community\, a social and support group for the senior (55+) LGBTQ+ community and allies in Fremont and the Tri-City area. We will meet twice a month for community\, lectures\, discussion and outings. \n1st and 3rd Wednesdays\n10:00 a.m. – 12:30 p.m. \n40086 Paseo Padre Pkwy\nFremont\, CA 94538 \n510.790.6600
URL:https://rainbowneighbors.org/event/fremont-rainbow-community/2025-12-03/
LOCATION:Age Well Center\, Lake Elizabeth\, 40086 Paseo Padre Pkwy\, Fremont\, CA\, 94538\, United States
END:VEVENT
BEGIN:VEVENT
DTSTART;TZID=America/Denver:20251122T100000
DTEND;TZID=America/Denver:20251122T120000
DTSTAMP:20260420T162507
CREATED:20250203T021032Z
LAST-MODIFIED:20250203T021032Z
UID:10000080-1763805600-1763812800@rainbowneighbors.org
SUMMARY:Vintage Coffee Group
DESCRIPTION:Join us in friendship and community at Crema Coffee. Grab a drink and enjoy good people at a pleasant venue. \n 
URL:https://rainbowneighbors.org/event/vintage-coffee-group/2025-11-22/
LOCATION:Crema Coffee Roasting Co\, 238 Race Street\, San Jose\, CA\, 95126\, United States
END:VEVENT
BEGIN:VEVENT
DTSTART;TZID=America/Denver:20251119T100000
DTEND;TZID=America/Denver:20251119T123000
DTSTAMP:20260420T162507
CREATED:20250428T194247Z
LAST-MODIFIED:20250711T191233Z
UID:10000259-1763546400-1763555400@rainbowneighbors.org
SUMMARY:Fremont Rainbow Community
DESCRIPTION:In partnership with The City of Fremont\, join Rainbowneighbors.org for our Fremont Rainbow Community\, a social and support group for the senior (55+) LGBTQ+ community and allies in Fremont and the Tri-City area. We will meet twice a month for community\, lectures\, discussion and outings. \nLunch is provided by the City of Fremont \n1st and 3rd Wednesdays\n10:00 a.m. – 12:30 p.m. \n40086 Paseo Padre Pkwy\nFremont\, CA 94538 \n510.790.6600
URL:https://rainbowneighbors.org/event/fremont-rainbow-community-2/2025-11-19/
LOCATION:Age Well Center\, Lake Elizabeth\, 40086 Paseo Padre Pkwy\, Fremont\, CA\, 94538\, United States
END:VEVENT
BEGIN:VEVENT
DTSTART;TZID=America/Denver:20251105T100000
DTEND;TZID=America/Denver:20251105T123000
DTSTAMP:20260420T162507
CREATED:20250428T193520Z
LAST-MODIFIED:20250428T194426Z
UID:10000139-1762336800-1762345800@rainbowneighbors.org
SUMMARY:Fremont Rainbow Community
DESCRIPTION:In partnership with The City of Fremont\, join Rainbowneighbors.org for our Fremont Rainbow Community\, a social and support group for the senior (55+) LGBTQ+ community and allies in Fremont and the Tri-City area. We will meet twice a month for community\, lectures\, discussion and outings. \n1st and 3rd Wednesdays\n10:00 a.m. – 12:30 p.m. \n40086 Paseo Padre Pkwy\nFremont\, CA 94538 \n510.790.6600
URL:https://rainbowneighbors.org/event/fremont-rainbow-community/2025-11-05/
LOCATION:Age Well Center\, Lake Elizabeth\, 40086 Paseo Padre Pkwy\, Fremont\, CA\, 94538\, United States
END:VEVENT
BEGIN:VEVENT
DTSTART;TZID=America/Denver:20251025T100000
DTEND;TZID=America/Denver:20251025T120000
DTSTAMP:20260420T162507
CREATED:20250203T021032Z
LAST-MODIFIED:20250203T021032Z
UID:10000079-1761386400-1761393600@rainbowneighbors.org
SUMMARY:Vintage Coffee Group
DESCRIPTION:Join us in friendship and community at Crema Coffee. Grab a drink and enjoy good people at a pleasant venue. \n 
URL:https://rainbowneighbors.org/event/vintage-coffee-group/2025-10-25/
LOCATION:Crema Coffee Roasting Co\, 238 Race Street\, San Jose\, CA\, 95126\, United States
END:VEVENT
BEGIN:VEVENT
DTSTART;TZID=America/Denver:20251015T100000
DTEND;TZID=America/Denver:20251015T123000
DTSTAMP:20260420T162507
CREATED:20250428T194247Z
LAST-MODIFIED:20250711T191233Z
UID:10000258-1760522400-1760531400@rainbowneighbors.org
SUMMARY:Fremont Rainbow Community
DESCRIPTION:In partnership with The City of Fremont\, join Rainbowneighbors.org for our Fremont Rainbow Community\, a social and support group for the senior (55+) LGBTQ+ community and allies in Fremont and the Tri-City area. We will meet twice a month for community\, lectures\, discussion and outings. \nLunch is provided by the City of Fremont \n1st and 3rd Wednesdays\n10:00 a.m. – 12:30 p.m. \n40086 Paseo Padre Pkwy\nFremont\, CA 94538 \n510.790.6600
URL:https://rainbowneighbors.org/event/fremont-rainbow-community-2/2025-10-15/
LOCATION:Age Well Center\, Lake Elizabeth\, 40086 Paseo Padre Pkwy\, Fremont\, CA\, 94538\, United States
END:VEVENT
BEGIN:VEVENT
DTSTART;TZID=America/Denver:20251001T100000
DTEND;TZID=America/Denver:20251001T123000
DTSTAMP:20260420T162507
CREATED:20250428T193520Z
LAST-MODIFIED:20250428T194426Z
UID:10000138-1759312800-1759321800@rainbowneighbors.org
SUMMARY:Fremont Rainbow Community
DESCRIPTION:In partnership with The City of Fremont\, join Rainbowneighbors.org for our Fremont Rainbow Community\, a social and support group for the senior (55+) LGBTQ+ community and allies in Fremont and the Tri-City area. We will meet twice a month for community\, lectures\, discussion and outings. \n1st and 3rd Wednesdays\n10:00 a.m. – 12:30 p.m. \n40086 Paseo Padre Pkwy\nFremont\, CA 94538 \n510.790.6600
URL:https://rainbowneighbors.org/event/fremont-rainbow-community/2025-10-01/
LOCATION:Age Well Center\, Lake Elizabeth\, 40086 Paseo Padre Pkwy\, Fremont\, CA\, 94538\, United States
END:VEVENT
BEGIN:VEVENT
DTSTART;TZID=America/Denver:20250927T100000
DTEND;TZID=America/Denver:20250927T120000
DTSTAMP:20260420T162508
CREATED:20250203T021032Z
LAST-MODIFIED:20250203T021032Z
UID:10000078-1758967200-1758974400@rainbowneighbors.org
SUMMARY:Vintage Coffee Group
DESCRIPTION:Join us in friendship and community at Crema Coffee. Grab a drink and enjoy good people at a pleasant venue. \n 
URL:https://rainbowneighbors.org/event/vintage-coffee-group/2025-09-27/
LOCATION:Crema Coffee Roasting Co\, 238 Race Street\, San Jose\, CA\, 95126\, United States
END:VEVENT
BEGIN:VEVENT
DTSTART;TZID=America/Denver:20250917T100000
DTEND;TZID=America/Denver:20250917T123000
DTSTAMP:20260420T162508
CREATED:20250428T194247Z
LAST-MODIFIED:20250711T191233Z
UID:10000257-1758103200-1758112200@rainbowneighbors.org
SUMMARY:Fremont Rainbow Community
DESCRIPTION:In partnership with The City of Fremont\, join Rainbowneighbors.org for our Fremont Rainbow Community\, a social and support group for the senior (55+) LGBTQ+ community and allies in Fremont and the Tri-City area. We will meet twice a month for community\, lectures\, discussion and outings. \nLunch is provided by the City of Fremont \n1st and 3rd Wednesdays\n10:00 a.m. – 12:30 p.m. \n40086 Paseo Padre Pkwy\nFremont\, CA 94538 \n510.790.6600
URL:https://rainbowneighbors.org/event/fremont-rainbow-community-2/2025-09-17/
LOCATION:Age Well Center\, Lake Elizabeth\, 40086 Paseo Padre Pkwy\, Fremont\, CA\, 94538\, United States
END:VEVENT
BEGIN:VEVENT
DTSTART;TZID=America/Denver:20250913T100000
DTEND;TZID=America/Denver:20250913T110000
DTSTAMP:20260420T162508
CREATED:20250901T025221Z
LAST-MODIFIED:20250901T025221Z
UID:10000317-1757757600-1757761200@rainbowneighbors.org
SUMMARY:Coffee at Suju's Coffee and Tea
DESCRIPTION:Join Rainbowneighbors.org and gather together with friends or meet some new ones. Enjoy coffee\, tea or some other beverage at Suju’s Coffee and Tea in Fremont on Stevenson near Blacow. \nSaturday\, September 13th\, 10 am\, Meet outside\n4949 Stevenson Blvd\, Fremont\, CA · (510) 252-1727 \nFor any questions contact Eddie at (510) 589-2954‬
URL:https://rainbowneighbors.org/event/coffee-at-sujus-coffee-and-tea/
LOCATION:Suju’s Coffee and Tea\, 4949 Stevenson Blvd\, Fremont\, CA\, 94538\, United States
END:VEVENT
BEGIN:VEVENT
DTSTART;TZID=America/Denver:20250903T100000
DTEND;TZID=America/Denver:20250903T123000
DTSTAMP:20260420T162508
CREATED:20250428T193520Z
LAST-MODIFIED:20250428T194426Z
UID:10000137-1756893600-1756902600@rainbowneighbors.org
SUMMARY:Fremont Rainbow Community
DESCRIPTION:In partnership with The City of Fremont\, join Rainbowneighbors.org for our Fremont Rainbow Community\, a social and support group for the senior (55+) LGBTQ+ community and allies in Fremont and the Tri-City area. We will meet twice a month for community\, lectures\, discussion and outings. \n1st and 3rd Wednesdays\n10:00 a.m. – 12:30 p.m. \n40086 Paseo Padre Pkwy\nFremont\, CA 94538 \n510.790.6600
URL:https://rainbowneighbors.org/event/fremont-rainbow-community/2025-09-03/
LOCATION:Age Well Center\, Lake Elizabeth\, 40086 Paseo Padre Pkwy\, Fremont\, CA\, 94538\, United States
END:VEVENT
BEGIN:VEVENT
DTSTART;TZID=America/Denver:20250823T100000
DTEND;TZID=America/Denver:20250823T120000
DTSTAMP:20260420T162508
CREATED:20250203T021032Z
LAST-MODIFIED:20250203T021032Z
UID:10000077-1755943200-1755950400@rainbowneighbors.org
SUMMARY:Vintage Coffee Group
DESCRIPTION:Join us in friendship and community at Crema Coffee. Grab a drink and enjoy good people at a pleasant venue. \n 
URL:https://rainbowneighbors.org/event/vintage-coffee-group/2025-08-23/
LOCATION:Crema Coffee Roasting Co\, 238 Race Street\, San Jose\, CA\, 95126\, United States
END:VEVENT
BEGIN:VEVENT
DTSTART;TZID=America/Denver:20250820T100000
DTEND;TZID=America/Denver:20250820T123000
DTSTAMP:20260420T162508
CREATED:20250428T194247Z
LAST-MODIFIED:20250711T191233Z
UID:10000256-1755684000-1755693000@rainbowneighbors.org
SUMMARY:Fremont Rainbow Community
DESCRIPTION:In partnership with The City of Fremont\, join Rainbowneighbors.org for our Fremont Rainbow Community\, a social and support group for the senior (55+) LGBTQ+ community and allies in Fremont and the Tri-City area. We will meet twice a month for community\, lectures\, discussion and outings. \nLunch is provided by the City of Fremont \n1st and 3rd Wednesdays\n10:00 a.m. – 12:30 p.m. \n40086 Paseo Padre Pkwy\nFremont\, CA 94538 \n510.790.6600
URL:https://rainbowneighbors.org/event/fremont-rainbow-community-2/2025-08-20/
LOCATION:Age Well Center\, Lake Elizabeth\, 40086 Paseo Padre Pkwy\, Fremont\, CA\, 94538\, United States
END:VEVENT
BEGIN:VEVENT
DTSTART;TZID=America/Denver:20250806T100000
DTEND;TZID=America/Denver:20250806T123000
DTSTAMP:20260420T162508
CREATED:20250428T193520Z
LAST-MODIFIED:20250428T194426Z
UID:10000136-1754474400-1754483400@rainbowneighbors.org
SUMMARY:Fremont Rainbow Community
DESCRIPTION:In partnership with The City of Fremont\, join Rainbowneighbors.org for our Fremont Rainbow Community\, a social and support group for the senior (55+) LGBTQ+ community and allies in Fremont and the Tri-City area. We will meet twice a month for community\, lectures\, discussion and outings. \n1st and 3rd Wednesdays\n10:00 a.m. – 12:30 p.m. \n40086 Paseo Padre Pkwy\nFremont\, CA 94538 \n510.790.6600
URL:https://rainbowneighbors.org/event/fremont-rainbow-community/2025-08-06/
LOCATION:Age Well Center\, Lake Elizabeth\, 40086 Paseo Padre Pkwy\, Fremont\, CA\, 94538\, United States
END:VEVENT
BEGIN:VEVENT
DTSTART;TZID=America/Denver:20250726T100000
DTEND;TZID=America/Denver:20250726T120000
DTSTAMP:20260420T162508
CREATED:20250203T021032Z
LAST-MODIFIED:20250203T021032Z
UID:10000076-1753524000-1753531200@rainbowneighbors.org
SUMMARY:Vintage Coffee Group
DESCRIPTION:Join us in friendship and community at Crema Coffee. Grab a drink and enjoy good people at a pleasant venue. \n 
URL:https://rainbowneighbors.org/event/vintage-coffee-group/2025-07-26/
LOCATION:Crema Coffee Roasting Co\, 238 Race Street\, San Jose\, CA\, 95126\, United States
END:VEVENT
BEGIN:VEVENT
DTSTART;TZID=America/Denver:20250716T100000
DTEND;TZID=America/Denver:20250716T123000
DTSTAMP:20260420T162508
CREATED:20250428T194247Z
LAST-MODIFIED:20250711T191233Z
UID:10000255-1752660000-1752669000@rainbowneighbors.org
SUMMARY:Fremont Rainbow Community
DESCRIPTION:In partnership with The City of Fremont\, join Rainbowneighbors.org for our Fremont Rainbow Community\, a social and support group for the senior (55+) LGBTQ+ community and allies in Fremont and the Tri-City area. We will meet twice a month for community\, lectures\, discussion and outings. \nLunch is provided by the City of Fremont \n1st and 3rd Wednesdays\n10:00 a.m. – 12:30 p.m. \n40086 Paseo Padre Pkwy\nFremont\, CA 94538 \n510.790.6600
URL:https://rainbowneighbors.org/event/fremont-rainbow-community-2/2025-07-16/
LOCATION:Age Well Center\, Lake Elizabeth\, 40086 Paseo Padre Pkwy\, Fremont\, CA\, 94538\, United States
END:VEVENT
BEGIN:VEVENT
DTSTART;TZID=America/Denver:20250702T100000
DTEND;TZID=America/Denver:20250702T123000
DTSTAMP:20260420T162508
CREATED:20250428T193520Z
LAST-MODIFIED:20250428T194426Z
UID:10000135-1751450400-1751459400@rainbowneighbors.org
SUMMARY:Fremont Rainbow Community
DESCRIPTION:In partnership with The City of Fremont\, join Rainbowneighbors.org for our Fremont Rainbow Community\, a social and support group for the senior (55+) LGBTQ+ community and allies in Fremont and the Tri-City area. We will meet twice a month for community\, lectures\, discussion and outings. \n1st and 3rd Wednesdays\n10:00 a.m. – 12:30 p.m. \n40086 Paseo Padre Pkwy\nFremont\, CA 94538 \n510.790.6600
URL:https://rainbowneighbors.org/event/fremont-rainbow-community/2025-07-02/
LOCATION:Age Well Center\, Lake Elizabeth\, 40086 Paseo Padre Pkwy\, Fremont\, CA\, 94538\, United States
END:VEVENT
BEGIN:VEVENT
DTSTART;TZID=America/Denver:20250628T100000
DTEND;TZID=America/Denver:20250628T120000
DTSTAMP:20260420T162508
CREATED:20250203T021032Z
LAST-MODIFIED:20250203T021032Z
UID:10000075-1751104800-1751112000@rainbowneighbors.org
SUMMARY:Vintage Coffee Group
DESCRIPTION:Join us in friendship and community at Crema Coffee. Grab a drink and enjoy good people at a pleasant venue. \n 
URL:https://rainbowneighbors.org/event/vintage-coffee-group/2025-06-28/
LOCATION:Crema Coffee Roasting Co\, 238 Race Street\, San Jose\, CA\, 95126\, United States
END:VEVENT
BEGIN:VEVENT
DTSTART;TZID=America/Denver:20250618T100000
DTEND;TZID=America/Denver:20250618T123000
DTSTAMP:20260420T162508
CREATED:20250428T194247Z
LAST-MODIFIED:20250711T191233Z
UID:10000254-1750240800-1750249800@rainbowneighbors.org
SUMMARY:Fremont Rainbow Community
DESCRIPTION:In partnership with The City of Fremont\, join Rainbowneighbors.org for our Fremont Rainbow Community\, a social and support group for the senior (55+) LGBTQ+ community and allies in Fremont and the Tri-City area. We will meet twice a month for community\, lectures\, discussion and outings. \nLunch is provided by the City of Fremont \n1st and 3rd Wednesdays\n10:00 a.m. – 12:30 p.m. \n40086 Paseo Padre Pkwy\nFremont\, CA 94538 \n510.790.6600
URL:https://rainbowneighbors.org/event/fremont-rainbow-community-2/2025-06-18/
LOCATION:Age Well Center\, Lake Elizabeth\, 40086 Paseo Padre Pkwy\, Fremont\, CA\, 94538\, United States
END:VEVENT
BEGIN:VEVENT
DTSTART;TZID=America/Denver:20250615T120000
DTEND;TZID=America/Denver:20250615T160000
DTSTAMP:20260420T162508
CREATED:20250603T032540Z
LAST-MODIFIED:20250613T023422Z
UID:10000314-1749988800-1750003200@rainbowneighbors.org
SUMMARY:Pride Picnic Potluck at Lake Elizabeth
DESCRIPTION:Please join us for a picnic at Lake Elizabeth to celebrate Pride month. 12 noon to 4:00 pm. Please bring something to share. Consider brining a blanket or fold-up chair\, but some chairs will be available. Some beverages and water will be provided. Meet the community\, make friends\, and just have a good time. We will be setting up near a picnic table close to the Age Well Center\, near the restroom by the parking lot east of the Age Well Center. \nAge Well Center is at: \n40086 Paseo Padre Parkway\nFremont\, CA 94538 \n(510) 589-2954‬
URL:https://rainbowneighbors.org/event/pride-picnic-potluck-at-lake-elizabeth/
LOCATION:Lake Elizabeth\, Fremont\, CA\, 40086 Paseo Padre Parkway\, Fremont\, CA\, CA\, 94538\, United States
END:VEVENT
BEGIN:VEVENT
DTSTART;TZID=America/Denver:20250605T110000
DTEND;TZID=America/Denver:20250605T123000
DTSTAMP:20260420T162508
CREATED:20250203T015516Z
LAST-MODIFIED:20250203T015516Z
UID:10000015-1749121200-1749126600@rainbowneighbors.org
SUMMARY:Pozitive Living Group
DESCRIPTION:Men’s Survival Group \nThis is a social and support group for men living with HIV. This is at the Billy DeFrank Community Center in San Jose. Please enter at the back of the building. \n 
URL:https://rainbowneighbors.org/event/pozitive-living-group/2025-06-05/
LOCATION:Billy DeFrank Community Center\, 938 The Alameda\, San Jose\, CA\, 95126\, United States
END:VEVENT
BEGIN:VEVENT
DTSTART;TZID=America/Denver:20250604T100000
DTEND;TZID=America/Denver:20250604T123000
DTSTAMP:20260420T162508
CREATED:20250428T193520Z
LAST-MODIFIED:20250428T194426Z
UID:10000134-1749031200-1749040200@rainbowneighbors.org
SUMMARY:Fremont Rainbow Community
DESCRIPTION:In partnership with The City of Fremont\, join Rainbowneighbors.org for our Fremont Rainbow Community\, a social and support group for the senior (55+) LGBTQ+ community and allies in Fremont and the Tri-City area. We will meet twice a month for community\, lectures\, discussion and outings. \n1st and 3rd Wednesdays\n10:00 a.m. – 12:30 p.m. \n40086 Paseo Padre Pkwy\nFremont\, CA 94538 \n510.790.6600
URL:https://rainbowneighbors.org/event/fremont-rainbow-community/2025-06-04/
LOCATION:Age Well Center\, Lake Elizabeth\, 40086 Paseo Padre Pkwy\, Fremont\, CA\, 94538\, United States
END:VEVENT
BEGIN:VEVENT
DTSTART;TZID=America/Denver:20250531T120000
DTEND;TZID=America/Denver:20250531T150000
DTSTAMP:20260420T162508
CREATED:20250523T004307Z
LAST-MODIFIED:20250523T004546Z
UID:10000313-1748692800-1748703600@rainbowneighbors.org
SUMMARY:San Jose Municipal Rose Garden
DESCRIPTION:Join Avenidas Rainbow Adventures and Rainbowneighbors.org for our first visit to the Municipal Rose Garden in San Jose. \nSaturday\, May 31 | Noon to 3 pm \nNaglee Ave & Dana Ave\, San JoseJoin Avenidas Rainbow Collective and Rainbow Neighbors for\nour first picknick of the year. This month we will be visiting the Municipal Rose Garden in San Jose\nFruit\, snacks\, drinks\, and small bites will be provided. Please bring something to share!\nScan QR Code on Flyer below to Register \nBeige Retro Flower Market Poster (Instagram Post (45)) (1).PNG \n  \nThe Garden was championed by early members of the Santa Clara County Rose Society\, and on November 20\, 1927\, the San José City Council voted to set aside 5.5 acres of an 11–acre tract of land at Naglee and Dana Avenues just outside of downtown San José and the Rose Society pledged to provide roses for the Garden. Groundbreaking took place April 7\, 1931\, and six years later\, on April 7\, 1937\, the Rose Garden was officially dedicated. Many of the Garden’s original features include the reflection pool in the center of the structural entrance\, garden vases\, the two-tiered water fountain\, miniature rose beds\, and arbor have been donated through the years by the community and the Rose Society. \nThis event is free and open to everyone!
URL:https://rainbowneighbors.org/event/san-jose-municipal-rose-garden/
LOCATION:San Jose Municipal Rose Garden\, 1649 Naglee Ave\, San Jose\, CA\, 95126\, United States
END:VEVENT
BEGIN:VEVENT
DTSTART;TZID=America/Denver:20250524T100000
DTEND;TZID=America/Denver:20250524T120000
DTSTAMP:20260420T162508
CREATED:20250203T021032Z
LAST-MODIFIED:20250203T021032Z
UID:10000074-1748080800-1748088000@rainbowneighbors.org
SUMMARY:Vintage Coffee Group
DESCRIPTION:Join us in friendship and community at Crema Coffee. Grab a drink and enjoy good people at a pleasant venue. \n 
URL:https://rainbowneighbors.org/event/vintage-coffee-group/2025-05-24/
LOCATION:Crema Coffee Roasting Co\, 238 Race Street\, San Jose\, CA\, 95126\, United States
END:VEVENT
BEGIN:VEVENT
DTSTART;TZID=America/Denver:20250521T100000
DTEND;TZID=America/Denver:20250521T123000
DTSTAMP:20260420T162508
CREATED:20250428T194247Z
LAST-MODIFIED:20250711T191233Z
UID:10000253-1747821600-1747830600@rainbowneighbors.org
SUMMARY:Fremont Rainbow Community
DESCRIPTION:In partnership with The City of Fremont\, join Rainbowneighbors.org for our Fremont Rainbow Community\, a social and support group for the senior (55+) LGBTQ+ community and allies in Fremont and the Tri-City area. We will meet twice a month for community\, lectures\, discussion and outings. \nLunch is provided by the City of Fremont \n1st and 3rd Wednesdays\n10:00 a.m. – 12:30 p.m. \n40086 Paseo Padre Pkwy\nFremont\, CA 94538 \n510.790.6600
URL:https://rainbowneighbors.org/event/fremont-rainbow-community-2/2025-05-21/
LOCATION:Age Well Center\, Lake Elizabeth\, 40086 Paseo Padre Pkwy\, Fremont\, CA\, 94538\, United States
END:VEVENT
END:VCALENDAR